BEGIN:VCALENDAR
VERSION:2.0
PRODID:-//ChamberMaster//Event Calendar 2.0//EN
METHOD:PUBLISH
X-PUBLISHED-TTL:P3D
REFRESH-INTERVAL:P3D
CALSCALE:GREGORIAN
BEGIN:VEVENT
DTSTART:20140812T013000Z
DTEND:20140812T030000Z
X-MICROSOFT-CDO-ALLDAYEVENT:FALSE
SUMMARY:Concert in the Park--Mike Iverson
DESCRIPTION:Mike is a full time folk/bluegrass musician with his roots firmly planted in the West. His mother's family settled in southeastern Wyoming after the Civil War and his father's family came across the plains with the first Mormon handcart company.\n\n \n\nMike purchased his first guitar and began playing music during his first year of High School (1975). By the time he had graduated\, he was learning to play the banjo and had formed a folk-rock trio.\n\n \n\nOver the years\, Mike has taught private lessons\, recorded as a studio musician\, competed in (and won) music competitions\, been part owner in a music store\, and has performed throughout the western states in various ensembles. His music has been featured in movies\, television series\, and a PBS documentary.\n\n \n\nFamiliar to audiences in Utah as the driving force behind the folk/bluegrass band Blue Sage\, Mike Iverson is now known worldwide for his contributions advancing the art of clawhammer banjo. Unlike it's more popular bluegrass cousin\, clawhammer is the original technique used to play the five-string banjo and came with the instrument as it made the journey across the ocean from West Africa.  This unusual playing technique is now going through a renaissance as banjo players everywhere are starting to realize the potential of this ancient form of play.  Mike Iverson is one of the leading players in this movement and has received worldwide accolades as an arranger\, instructor\, author\, and creator of one of the world's most popular clawhammer banjo websites.\n\n \n\nSponsored by the City of St. George with funding from the Utah Division of Arts and Museums\, the State of Utah and the National Endowment for the Arts. Concert in the Park 2014 Series is free to the public.  Don't miss the second Monday of each month April through September. Park seating is available\, bring blankets\, lawn chairs\, food and the family.
X-ALT-DESC;FMTTYPE=text/html:<p><span style="font-size:14px\;"><span style="font-family:arial\;">Mike is a full time folk/bluegrass musician with his roots firmly planted in the West. His mother&#39\;s family settled in southeastern Wyoming after the Civil War and his father&#39\;s family came across the plains with the first Mormon handcart company.<br />\n&nbsp\;<br />\nMike purchased his first guitar and began playing music during his first year of High School (1975). By the time he had graduated\, he was learning to play the banjo and had formed a folk-rock trio.<br />\n&nbsp\;<br />\nOver the years\, Mike has taught private lessons\, recorded as a studio musician\, competed in (and won) music competitions\, been part owner in a music store\, and has performed throughout the western states in various ensembles. His music has been featured in movies\, television series\, and a PBS documentary.<br />\n&nbsp\;<br />\nFamiliar to audiences in Utah as the driving force behind the folk/bluegrass band Blue Sage\, Mike Iverson is now known worldwide for his contributions advancing the art of clawhammer banjo. Unlike it&#39\;s more popular bluegrass cousin\, clawhammer is the original technique used to play the five-string banjo and came with the instrument as it made the journey across the ocean from West Africa.&nbsp\; This unusual playing technique is now going through a renaissance as banjo players everywhere are starting to realize the potential of this ancient form of play.&nbsp\; Mike Iverson is one of the leading players in this movement and has received worldwide accolades as an arranger\, instructor\, author\, and creator of one of the world&#39\;s most popular clawhammer banjo websites.<br />\n&nbsp\;<br />\nSponsored by the City of St. George with funding from the Utah Division of Arts and Museums\, the State of Utah and the National Endowment for the Arts. Concert in the Park 2014 Series is free to the public.&nbsp\; Don&rsquo\;t miss the second Monday of each month April through September. Park seating is available\, bring blankets\, lawn chairs\, food and the family.</span></span></p>\n
LOCATION:Vernon Worthen Park 300 South 400 East\, St. George
UID:e.1117.6042
SEQUENCE:3
DTSTAMP:20260421T055434Z
URL:https://business.stgeorgechamber.com/events/details/concert-in-the-park-mike-iverson-08-11-2014-6042
END:VEVENT

END:VCALENDAR
