BEGIN:VCALENDAR
VERSION:2.0
PRODID:-//ChamberMaster//Event Calendar 2.0//EN
METHOD:PUBLISH
X-PUBLISHED-TTL:P3D
REFRESH-INTERVAL:P3D
CALSCALE:GREGORIAN
BEGIN:VEVENT
DTSTART:20140916T013000Z
DTEND:20140916T030000Z
X-MICROSOFT-CDO-ALLDAYEVENT:FALSE
SUMMARY:Concert in the Park: Michael John
DESCRIPTION:Michael John\, a native of Las Vegas\, Nevada\, found out early that he had the voice of Billy Joel.\n\n \n\nMichael has worked hard at perfecting his Billy Joel show and landed a gig playing with the world famous Legends In Concert portraying the famous piano man.\n\n \n\nAfter his stint with Legends\, Michael appeared on national television twice on the FOX network's "Performing As:" talent show as Billy Joel receiving great reviews for his performances.\n\n \n\nMichael has worked for many entertainment companies such as Innovative Entertainment Group\, Debut Entertainment\, Jamie's Rock N Roll Legends\, RNRH Entertainment\, Classique Productions\, Golden Ticket Productions\, and DMH Enterprises. He has performed at conventions\, corporate events\, birthday celebrations\, holiday events\, and many clubs around the country.\n\n \n\nMichael is not just a celebrity look a like\, although he does have the Billy Joel look down. He also can play the piano\, sing\, and entertain with the same intensity and passion.\n\n \n\nHe has a long song list that he mastered\, from the familiar\, "Only the Good Die Young" and "Piano Man"\, to the classic "Angry Young Man" and "Scenes From An Italian Restaurant."\n\n \n\nFor additional information visit billyjoeltributeshow.com
X-ALT-DESC;FMTTYPE=text/html:Michael John\, a native of Las Vegas\, Nevada\, found out early that he had the voice of Billy Joel.<br />\n&nbsp\;<br />\nMichael has worked hard at perfecting his Billy Joel show and landed a gig playing with the world famous Legends In Concert portraying the famous piano man.<br />\n&nbsp\;<br />\nAfter his stint with Legends\, Michael appeared on national television twice on the FOX network&rsquo\;s &ldquo\;Performing As:&rdquo\; talent show as Billy Joel receiving great reviews for his performances.<br />\n&nbsp\;<br />\nMichael has worked for many entertainment companies such as Innovative Entertainment Group\, Debut Entertainment\, Jamie&rsquo\;s Rock N Roll Legends\, RNRH Entertainment\, Classique Productions\, Golden Ticket Productions\, and DMH Enterprises. He has performed at conventions\, corporate events\, birthday celebrations\, holiday events\, and many clubs around the country.<br />\n&nbsp\;<br />\nMichael is not just a celebrity look a like\, although he does have the Billy Joel look down. He also can play the piano\, sing\, and entertain with the same intensity and passion.<br />\n&nbsp\;<br />\nHe has a long song list that he mastered\, from the familiar\, &ldquo\;Only the Good Die Young&rdquo\; and &ldquo\;Piano Man&rdquo\;\, to the classic &ldquo\;Angry Young Man&rdquo\; and &ldquo\;Scenes From An Italian Restaurant.&rdquo\;<br />\n&nbsp\;<br />\nFor additional information visit billyjoeltributeshow.com
LOCATION:Centennial Park 301 North 2200 East St. George
UID:e.1117.6097
SEQUENCE:3
DTSTAMP:20260421T043317Z
URL:https://business.stgeorgechamber.com/events/details/concert-in-the-park-michael-john-09-15-2014-6097
END:VEVENT

END:VCALENDAR
