BEGIN:VCALENDAR
VERSION:2.0
PRODID:-//ChamberMaster//Event Calendar 2.0//EN
METHOD:PUBLISH
X-PUBLISHED-TTL:P3D
REFRESH-INTERVAL:P3D
CALSCALE:GREGORIAN
BEGIN:VEVENT
DTSTART:20160809T013000Z
DTEND:20160809T030000Z
X-MICROSOFT-CDO-ALLDAYEVENT:FALSE
SUMMARY:Concert in the Park-Lyndy Butler & Cherie Call
DESCRIPTION:Lyndy Butler is a popular songwriter based in Saint George. Known for her folky- pop songs packed with vivid imagery. She has independently released two full-length albums and has traveled all over the country performing\, learning about the music business\, and showcasing in prestigious songwriting festivals and expos. Cherie Call was born and raised in Mesa\, Arizona and has been writing music since her early teens. Cherie has recorded eight full-length albums of original songs.
X-ALT-DESC;FMTTYPE=text/html:<p>Lyndy Butler is a popular songwriter based in Saint George. Known for her folky- pop songs packed with vivid imagery. She has independently released two full-length albums and has traveled all over the country performing\, learning about the music business\, and showcasing in prestigious songwriting festivals and expos. Cherie Call was born and raised in Mesa\, Arizona and has been writing music since her early teens. Cherie has recorded eight full-length albums of original songs.&nbsp\;</p>\n
LOCATION:Vernon Worthen Park 300 South 400 East St. George
UID:e.1117.9658
SEQUENCE:3
DTSTAMP:20260421T084111Z
URL:https://business.stgeorgechamber.com/events/details/concert-in-the-park-lyndy-butler-cherie-call-08-08-2016-9658
END:VEVENT

END:VCALENDAR
