BEGIN:VCALENDAR
VERSION:2.0
PRODID:-//ChamberMaster//Event Calendar 2.0//EN
METHOD:PUBLISH
X-PUBLISHED-TTL:P3D
REFRESH-INTERVAL:P3D
CALSCALE:GREGORIAN
BEGIN:VEVENT
DTSTART:20160412T013000Z
DTEND:20160412T030000Z
X-MICROSOFT-CDO-ALLDAYEVENT:FALSE
SUMMARY:Concert in the Park-Calvin Brooks
DESCRIPTION:One of five children\, Calvin was born to parents William Brooks\, an automotive worker\, and Rose a homemaker.  His parents recognized his musical abilities early on and nurtured his talents allowing him to study at Grinnell School of Music in Detroit.  \n\n\n\nGrowing up in the 60's surrounded by the sounds and stars of Motown\, Calvin spent endless hours playing his guitar to the ever present R & B\, Jazz\, Blues\, and Gospel music. By age 14\, Brooks was being paid to play at local events and developed quite a reputation within the music community of his hometown. \n\n \n\nCalvin's love of music and his undeniable talent garnered him a "gig" with Martha Reeves and The Vandellas of Motown fame.  For seventeen years\, he toured the world and shared the stage with premiere entertainers. \n\n \n\nSponsored by the City of St. George with funding from the Utah Division of Arts and Museums\, the State of Utah and the National Endowment for the Arts. Concert in the Park 2015 Series is free to the public.  Don't miss the second Monday of each month April through September. Park seating is available\, bring blankets\, lawn chairs\, food and the family.
X-ALT-DESC;FMTTYPE=text/html:<p><span style="font-size:14px\;"><span style="font-family:arial\;"><span style="color:#000000\;">One of five children\, Calvin was born to parents William Brooks\, an automotive worker\, and Rose a homemaker. &nbsp\;His parents recognized his musical abilities early on and nurtured his talents allowing him to study at Grinnell School of Music in Detroit. &nbsp\;</span><br />\n<br />\nGrowing up in the 60&#39\;s surrounded by the sounds and stars of Motown\, Calvin spent endless hours playing his guitar to the ever present R &amp\; B\,&nbsp\;Jazz\, Blues\, and Gospel music.&nbsp\;By age 14\, Brooks was being paid to play at local events and developed quite a reputation within the music community of his hometown.&nbsp\;<br />\n&nbsp\;<br />\nCalvin&#39\;s love of music and his undeniable talent garnered him a &quot\;gig&quot\; with Martha Reeves and The Vandellas of Motown fame.&nbsp\; For seventeen years\, he toured the world and shared the stage with premiere entertainers.&nbsp\;<br />\n<span style="color:#000000\;">&nbsp\;<br />\nSponsored by the City of St. George with funding from the Utah Division of Arts and Museums\, the State of Utah and the National Endowment for the Arts. Concert in the Park 2015 Series is free to the public.&nbsp\; Don&rsquo\;t miss the second Monday of each month April through September. Park seating is available\, bring blankets\, lawn chairs\, food and the family.</span></span></span></p>\n
LOCATION:Vernon Worthen Park 300 South 400 East St. George
UID:e.1117.8541
SEQUENCE:3
DTSTAMP:20260419T215850Z
URL:https://business.stgeorgechamber.com/events/details/concert-in-the-park-calvin-brooks-04-11-2016-8541
END:VEVENT

END:VCALENDAR
