BEGIN:VCALENDAR
VERSION:2.0
PRODID:-//ChamberMaster//Event Calendar 2.0//EN
METHOD:PUBLISH
X-PUBLISHED-TTL:P3D
REFRESH-INTERVAL:P3D
CALSCALE:GREGORIAN
BEGIN:VEVENT
DTSTART:20140513T013000Z
DTEND:20140513T030000Z
X-MICROSOFT-CDO-ALLDAYEVENT:FALSE
SUMMARY:Concert in the Park
DESCRIPTION:For the first 18 years of his life\, Chris had music running through his veins and didn't even realize it! Once he discovered his gift\, singing and performing has become a part of his every day life.\n\nChris is living his dream and has come a long way since his days as the "Singing Busboy of Jebino's Restaurant" in Eatonville\, WA\, Chris has transformed his act in a way that appeals to all ages. Having just turned 24\, he is gaining momentum in his career and his talents. Chris continues to gain popularity in Washington State by performing a genre of music that was introduced 30 years before he was born\, and he continues to research and add more songs to his repertoire ranging from Jazz Standards\, to Motown\, to Traditional Pop.\n\nChris hasn't always been an "old soul" when it comes to his musical interests but once he started looking through his grandfather's old records\, everything changed. His grandfather introduced him to the songs he grew up with when he was just 17 years old. Chris' love for this "new" kind of music grew rapidly which led to him soon realizing his destiny\; to help bring these songs back to a mainstream audience.\n\nSponsored by the City of St. George with funding from the Utah Division of Arts and Museums\, the State of Utah and the National Endowment for the Arts. Concert in the Park 2014 Series is free to the public.  Don't miss the second Monday of each month April through September. Park seating is available\, bring blankets\, lawn chairs\, food and the family.
X-ALT-DESC;FMTTYPE=text/html:<p><span style="font-size:14px\;">For the first 18 years of his life\, Chris had music running through his veins and didn&rsquo\;t even realize it! Once he discovered his gift\, singing and performing has become a part of his every day life.<br />\nChris is living his dream and has come a long way since his days as the &ldquo\;Singing Busboy of Jebino&rsquo\;s Restaurant&rdquo\; in Eatonville\, WA\, Chris has transformed his act in a way that appeals to all ages. Having just turned 24\, he is gaining momentum in his career and his talents. Chris continues to gain popularity in Washington State by performing a genre of music that was introduced 30 years before he was born\, and he continues to research and add more songs to his repertoire ranging from Jazz Standards\, to Motown\, to Traditional Pop.<br />\nChris hasn&rsquo\;t always been an &ldquo\;old soul&rdquo\; when it comes to his musical interests but once he started looking through his grandfather&rsquo\;s old records\, everything changed. His grandfather introduced him to the songs he grew up with when he was just 17 years old. Chris&rsquo\; love for this &ldquo\;new&rdquo\; kind of music grew rapidly which led to him soon realizing his destiny\; to help bring these songs back to a mainstream audience.<br />\nSponsored by the City of St. George with funding from the Utah Division of Arts and Museums\, the State of Utah and the National Endowment for the Arts. Concert in the Park 2014 Series is free to the public.&nbsp\; Don&rsquo\;t miss the second Monday of each month April through September. Park seating is available\, bring blankets\, lawn chairs\, food and the family.</span></p>\n
LOCATION:Centennial Park 301 N. 2200 E. St. George
UID:e.1117.5268
SEQUENCE:3
DTSTAMP:20260421T112246Z
URL:https://business.stgeorgechamber.com/events/details/concert-in-the-park-05-12-2014-5268
END:VEVENT

END:VCALENDAR
