BEGIN:VCALENDAR
VERSION:2.0
PRODID:-//ChamberMaster//Event Calendar 2.0//EN
METHOD:PUBLISH
X-PUBLISHED-TTL:P3D
REFRESH-INTERVAL:P3D
CALSCALE:GREGORIAN
BEGIN:VEVENT
DTSTART:20150512T013000Z
DTEND:20150512T030000Z
X-MICROSOFT-CDO-ALLDAYEVENT:FALSE
SUMMARY:Concert in the Park
DESCRIPTION:The City of St. George presents  \n\n \n\nConcert in the Park 2015 Series   Second Monday of Each Month\n\n April through September\n\n \n\nScott Wullkotte\n\nDesert Gold\n\n AZ ONE MAN BAND\n\n \n\nBorn in Cincinnati\, Ohio\, but grew up in Phoenix\, Arizona\, Scott is a seasoned veteran in the music business.  He took up guitar at the age of 15 and was working in night clubs by the time he was 17.  He has traveled with bands all over the USA and now plays music at Parties\, Weddings\, Night Clubs\, and Special Events around the state of Arizona as a solo act.\n\n \n\nScott is focusing on becoming a successful songwriter. In 2004\, he recorded\, produced and released his first CD titled "Desert Gold".  It has received radio air play in over 60 countries. Scott finished recording and producing his second CD titled "In Our Own back Yard". It has also received radio air play and internet downloads in countries all over the world.\n\n \n\nSponsored by the City of St. George with funding from the Utah Division of Arts and Museums\, the State of Utah and the National Endowment for the Arts. Concert in the Park 2015 Series is free to the public.  Don't miss the second Monday of each month April through September. Park seating is available\, bring blankets\, lawn chairs\, food and the family. For more information call 627-4525.
X-ALT-DESC;FMTTYPE=text/html:<span style="font-size:14px\;"><span style="font-family:arial\;"><strong><em>The City of St. George presents&hellip\; </em></strong><br />\n&nbsp\;<br />\n<strong>Concert in the Park 2015 Series &ndash\; Second Monday of Each Month</strong><br />\n<strong>&nbsp\;April through September</strong><br />\n&nbsp\;<br />\nScott Wullkotte<br />\nDesert Gold<br />\n&nbsp\;AZ ONE MAN BAND<br />\n&nbsp\;<br />\nBorn in Cincinnati\, Ohio\, but grew up in Phoenix\, Arizona\, Scott is a seasoned veteran in the music business.&nbsp\; He took up guitar at the age of 15 and was working in night clubs by the time he was 17.&nbsp\; He has traveled with bands all over the USA and now plays music at Parties\, Weddings\, Night Clubs\, and Special Events around the state of Arizona as a solo act.<br />\n&nbsp\;<br />\nScott is focusing on becoming a successful songwriter. In 2004\, he recorded\, produced and released his first CD titled &quot\;Desert Gold&quot\;.&nbsp\; It has received radio air play in over 60 countries. Scott finished recording and producing his second CD titled &quot\;In Our Own back Yard&quot\;. It has also received radio air play and internet downloads in countries all over the world.<br />\n&nbsp\;<br />\nSponsored by the City of St. George with funding from the Utah Division of Arts and Museums\, the State of Utah and the National Endowment for the Arts. Concert in the Park 2015 Series is free to the public.&nbsp\; Don&rsquo\;t miss the second Monday of each month April through September. Park seating is available\, bring blankets\, lawn chairs\, food and the family. For more information call 627-4525.&nbsp\;</span></span>
LOCATION:Vernon Worthen Park 300 South 400 East\, St. George
UID:e.1117.6435
SEQUENCE:3
DTSTAMP:20260420T154959Z
URL:https://business.stgeorgechamber.com/events/details/concert-in-the-park-05-11-2015-6435
END:VEVENT

END:VCALENDAR
