BEGIN:VCALENDAR
VERSION:2.0
PRODID:-//ChamberMaster//Event Calendar 2.0//EN
METHOD:PUBLISH
X-PUBLISHED-TTL:P3D
REFRESH-INTERVAL:P3D
CALSCALE:GREGORIAN
BEGIN:VEVENT
DTSTART:20140213T023000Z
DTEND:20140213T060000Z
X-MICROSOFT-CDO-ALLDAYEVENT:FALSE
SUMMARY:Clint Black Concert
DESCRIPTION:
X-ALT-DESC;FMTTYPE=text/html:
LOCATION:Dixie State University. Cox Auditorium
UID:e.1117.5051
SEQUENCE:3
DTSTAMP:20260421T142431Z
URL:https://business.stgeorgechamber.com/events/details/clint-black-concert-02-12-2014-5051
END:VEVENT

END:VCALENDAR
