BEGIN:VCALENDAR
VERSION:2.0
PRODID:-//ChamberMaster//Event Calendar 2.0//EN
METHOD:PUBLISH
X-PUBLISHED-TTL:P3D
REFRESH-INTERVAL:P3D
CALSCALE:GREGORIAN
BEGIN:VEVENT
DTSTART;VALUE=DATE:20130704
DTEND;VALUE=DATE:20130705
TRANSP:TRANSPARENT
X-MICROSOFT-CDO-ALLDAYEVENT:TRUE
SUMMARY:City of St. George Independence Day Celebration
DESCRIPTION:7:30 - 10:00 am \n\n\n	Staheli's Catering Early Morning Breakfast - Everyone is invited to start the day with a complete pancake\, eggs\, hashbrowns\, and beverage breakfast.\n8:00am \n\n\n	"United We Stand" City of St. George 4th of July Celebration Parade Line the surrounding streets of Vernon Worthen Park for this patriotic spectacle!!! FREE TO ENTER A FLOAT/ OR GROUP!!!\n9:00 am \n\n\n	National Anthem - at the gazebo in Vernon Worthen Park\n9:10am - 1:00pm \n\n\n	City of St. George Independence Day Fun & Games Extravaganza Bring the whole family for a fun day in the park! Many activities are free:\n\n	There will be music\, food booths\, face painting\, cotton candy\, watermelon seed spitting contest\, bounce houses\, Water Wars\, Frisbee toss\, football throw\, homerun derby\, dunk tank\, climbing wall\, dancing\, obstacle course\, our famous 100 foot Slip-n-Slide and new this year CrossFIt Ninja Warrior Challenge.\n10:00 am \n\n\n	Karaoke in the Park\n\n	Zumba\n11:00 am \n\n\n	St. George's Finest Talent\n1:00 pm \n\n\n	Hotdog Eating Contest sponsored by Lins Marketplace\n\n	Contestants will be chosen based on best costume and creativity.\n8:00 - 10:00 pm \n\n\n	KONY Country Presents FREE CONCERT IN THE SUNBOWL \n\n	Dixie Sunbowl (100 S 400 E) Admission is free\n10:00 pm \n\n\n	Giant Fireworks Display\n\n	A spectacular fireworks display will begin at approximately 10:00 pm following the free concert.\n\n	KONY Radio will broadcast live\, during the FREE CONCERT at 8:00 pm and will also provide special musical accompaniment throughout the fireworks display.
X-ALT-DESC;FMTTYPE=text/html:<strong style="color: rgb(0\, 0\, 0)\; font-family: 'Times New Roman'\; font-size: 14px\;">7:30 - 10:00 am</strong><span style="color: rgb(0\, 0\, 0)\; font-family: 'Times New Roman'\; font-size: 14px\;">&nbsp\;</span><br style="color: rgb(0\, 0\, 0)\; font-family: 'Times New Roman'\; font-size: 14px\;" />\n<p style="color: rgb(0\, 0\, 0)\; font-family: 'Times New Roman'\; font-size: 14px\;">\n	Staheli&#39\;s Catering Early Morning Breakfast - Everyone is invited to start the day with a complete pancake\, eggs\, hashbrowns\, and beverage breakfast.</p>\n<strong style="color: rgb(0\, 0\, 0)\; font-family: 'Times New Roman'\; font-size: 14px\;">8:00am</strong><span style="color: rgb(0\, 0\, 0)\; font-family: 'Times New Roman'\; font-size: 14px\;">&nbsp\;</span><br style="color: rgb(0\, 0\, 0)\; font-family: 'Times New Roman'\; font-size: 14px\;" />\n<p style="color: rgb(0\, 0\, 0)\; font-family: 'Times New Roman'\; font-size: 14px\;">\n	&quot\;United We Stand&quot\; City of St. George 4th of July Celebration Parade Line the surrounding streets of Vernon Worthen Park for this patriotic spectacle!!! FREE TO ENTER A FLOAT/ OR GROUP!!!</p>\n<strong style="color: rgb(0\, 0\, 0)\; font-family: 'Times New Roman'\; font-size: 14px\;">9:00 am</strong><span style="color: rgb(0\, 0\, 0)\; font-family: 'Times New Roman'\; font-size: 14px\;">&nbsp\;</span><br style="color: rgb(0\, 0\, 0)\; font-family: 'Times New Roman'\; font-size: 14px\;" />\n<p style="color: rgb(0\, 0\, 0)\; font-family: 'Times New Roman'\; font-size: 14px\;">\n	National Anthem - at the gazebo in Vernon Worthen Park</p>\n<strong style="color: rgb(0\, 0\, 0)\; font-family: 'Times New Roman'\; font-size: 14px\;">9:10am - 1:00pm</strong><span style="color: rgb(0\, 0\, 0)\; font-family: 'Times New Roman'\; font-size: 14px\;">&nbsp\;</span><br style="color: rgb(0\, 0\, 0)\; font-family: 'Times New Roman'\; font-size: 14px\;" />\n<p style="color: rgb(0\, 0\, 0)\; font-family: 'Times New Roman'\; font-size: 14px\;">\n	City of St. George Independence Day Fun &amp\; Games Extravaganza Bring the whole family for a fun day in the park! Many activities are free:</p>\n<p style="color: rgb(0\, 0\, 0)\; font-family: 'Times New Roman'\; font-size: 14px\;">\n	There will be music\, food booths\, face painting\, cotton candy\, watermelon seed spitting contest\, bounce houses\, Water Wars\, Frisbee toss\, football throw\, homerun derby\, dunk tank\, climbing wall\, dancing\, obstacle course\, our famous 100 foot Slip-n-Slide and new this year CrossFIt Ninja Warrior Challenge.</p>\n<strong style="color: rgb(0\, 0\, 0)\; font-family: 'Times New Roman'\; font-size: 14px\;">10:00 am</strong><span style="color: rgb(0\, 0\, 0)\; font-family: 'Times New Roman'\; font-size: 14px\;">&nbsp\;</span><br style="color: rgb(0\, 0\, 0)\; font-family: 'Times New Roman'\; font-size: 14px\;" />\n<p style="color: rgb(0\, 0\, 0)\; font-family: 'Times New Roman'\; font-size: 14px\;">\n	Karaoke in the Park</p>\n<p style="color: rgb(0\, 0\, 0)\; font-family: 'Times New Roman'\; font-size: 14px\;">\n	Zumba</p>\n<strong style="color: rgb(0\, 0\, 0)\; font-family: 'Times New Roman'\; font-size: 14px\;">11:00 am</strong><span style="color: rgb(0\, 0\, 0)\; font-family: 'Times New Roman'\; font-size: 14px\;">&nbsp\;</span><br style="color: rgb(0\, 0\, 0)\; font-family: 'Times New Roman'\; font-size: 14px\;" />\n<p style="color: rgb(0\, 0\, 0)\; font-family: 'Times New Roman'\; font-size: 14px\;">\n	St. George&#39\;s Finest Talent</p>\n<strong style="color: rgb(0\, 0\, 0)\; font-family: 'Times New Roman'\; font-size: 14px\;">1:00 pm</strong><span style="color: rgb(0\, 0\, 0)\; font-family: 'Times New Roman'\; font-size: 14px\;">&nbsp\;</span><br style="color: rgb(0\, 0\, 0)\; font-family: 'Times New Roman'\; font-size: 14px\;" />\n<p style="color: rgb(0\, 0\, 0)\; font-family: 'Times New Roman'\; font-size: 14px\;">\n	Hotdog Eating Contest sponsored by Lins Marketplace</p>\n<p style="color: rgb(0\, 0\, 0)\; font-family: 'Times New Roman'\; font-size: 14px\;">\n	Contestants will be chosen based on best costume and creativity.</p>\n<strong style="color: rgb(0\, 0\, 0)\; font-family: 'Times New Roman'\; font-size: 14px\;">8:00 - 10:00 pm</strong><span style="color: rgb(0\, 0\, 0)\; font-family: 'Times New Roman'\; font-size: 14px\;">&nbsp\;</span><br style="color: rgb(0\, 0\, 0)\; font-family: 'Times New Roman'\; font-size: 14px\;" />\n<p style="color: rgb(0\, 0\, 0)\; font-family: 'Times New Roman'\; font-size: 14px\;">\n	KONY Country Presents FREE CONCERT IN THE SUNBOWL&nbsp\;<br />\n	Dixie Sunbowl (100 S 400 E) Admission is free</p>\n<strong style="color: rgb(0\, 0\, 0)\; font-family: 'Times New Roman'\; font-size: 14px\;">10:00 pm</strong><span style="color: rgb(0\, 0\, 0)\; font-family: 'Times New Roman'\; font-size: 14px\;">&nbsp\;</span><br style="color: rgb(0\, 0\, 0)\; font-family: 'Times New Roman'\; font-size: 14px\;" />\n<p style="color: rgb(0\, 0\, 0)\; font-family: 'Times New Roman'\; font-size: 14px\;">\n	Giant Fireworks Display</p>\n<p style="color: rgb(0\, 0\, 0)\; font-family: 'Times New Roman'\; font-size: 14px\;">\n	A spectacular fireworks display will begin at approximately 10:00 pm following the free concert.</p>\n<p style="color: rgb(0\, 0\, 0)\; font-family: 'Times New Roman'\; font-size: 14px\;">\n	KONY Radio will broadcast live\, during the FREE CONCERT at 8:00 pm and will also provide special musical accompaniment throughout the fireworks display.</p>\n
LOCATION:Vernon Worthen Park
UID:e.1117.3879
SEQUENCE:3
DTSTAMP:20260422T023855Z
URL:https://business.stgeorgechamber.com/events/details/city-of-st-george-independence-day-celebration-07-04-2013-3879
END:VEVENT

END:VCALENDAR
