BEGIN:VCALENDAR
VERSION:2.0
PRODID:-//ChamberMaster//Event Calendar 2.0//EN
METHOD:PUBLISH
X-PUBLISHED-TTL:P3D
REFRESH-INTERVAL:P3D
CALSCALE:GREGORIAN
BEGIN:VEVENT
DTSTART;VALUE=DATE:20160704
DTEND;VALUE=DATE:20160705
TRANSP:TRANSPARENT
X-MICROSOFT-CDO-ALLDAYEVENT:TRUE
SUMMARY:City of St. George 4th of July Celebration
DESCRIPTION:6:30 am Uncle Sam 5K\n\n7:30 - 10:00 am Early Morning Breakfast - Everyone is invited to start the day with a complete pancake\, eggs\, hash browns\, and beverage breakfast.  For a small fee.\n\n8:00 am "We the People" City of St. George 4th of July Celebration Parade Line the surrounding streets of Vernon Worthen Park for this patriotic spectacle!!! FREE TO ENTER A FLOAT/ OR GROUP!!!\n\n9:45 am National Anthem - at the main stage in Vernon Worthen Park\n\n9:40 - 10:30 am Zumba- at the St. George Recreation Center\n\n9:40 am - 4:00 pm City of St. George Independence Day Fun and Games Extravaganza! Bring the whole family for a fun day in the park. Many activities are free: There will be music\, food booths\, face painting\, cotton candy\, watermelon seed spitting contest\, cupcake walk\, potato sack races\, bounce houses\, water wars\, dunk tank\, our famous 100 foot Slip-n-Slide and a few new surprises!\n\n10:00 am - 4:00 pm Karaoke at the Gazebo\n\n10:45 am - 12:30 pm Talent Competitions at the main stage: So you think you can dance STG Style & STG Idol\n\n1:00 pm Hot Dog Eating Competition at the main stage\n\n8:00 - 10:00 pm KONY Country Presents Saywer Brown in Concert at Dixie State University Legend Solar Stadium\n\n10:00 pm Giant Fireworks Display A spectacular fireworks display will begin at approximately 10:00 pm following the free concert. KONY Radio will broadcast live\, during the FREE CONCERT at 8:00 pm and will also provide special musical accompaniment throughout the fireworks display.
X-ALT-DESC;FMTTYPE=text/html:<span style="color: rgb(68\, 68\, 68)\; font-family: Lato\, HelveticaNeue\, 'Helvetica Neue'\, Helvetica\, Arial\, sans-serif\; line-height: 21.4500007629395px\;">6:30 am Uncle Sam 5K<br />\n7:30 - 10:00 am Early Morning Breakfast - Everyone is invited to start the day with a complete pancake\, eggs\, hash browns\, and beverage breakfast. &nbsp\;For a small fee.<br />\n8:00 am &quot\;We the People&quot\; City of St. George 4th of July Celebration Parade Line the surrounding streets of Vernon Worthen Park for this patriotic spectacle!!! FREE TO ENTER A FLOAT/ OR GROUP!!!<br />\n9:45 am National Anthem - at the main stage in Vernon Worthen Park<br />\n9:40 - 10:30 am Zumba- at the St. George Recreation Center<br />\n9:40 am - 4:00 pm City of St. George Independence Day Fun and Games Extravaganza! Bring the whole family for a fun day in the park. Many activities are free: There will be music\, food booths\, face painting\, cotton candy\, watermelon seed spitting contest\, cupcake walk\, potato sack races\, bounce houses\, water wars\, dunk tank\, our famous 100 foot Slip-n-Slide and a few new surprises!<br />\n10:00 am - 4:00 pm Karaoke at the Gazebo<br />\n10:45 am - 12:30 pm Talent Competitions at the main stage: So you think you can dance STG Style &amp\; STG Idol<br />\n1:00 pm Hot Dog Eating Competition at the main stage<br />\n8:00 - 10:00 pm KONY Country Presents Saywer Brown in Concert at Dixie State University Legend Solar Stadium<br />\n10:00 pm Giant Fireworks Display A spectacular fireworks display will begin at approximately 10:00 pm following the free concert. KONY Radio will broadcast live\, during the FREE CONCERT at 8:00 pm and will also provide special musical accompaniment throughout the fireworks display.</span>
LOCATION:Vernon Worthen Park
UID:e.1117.9021
SEQUENCE:3
DTSTAMP:20260419T165640Z
URL:https://business.stgeorgechamber.com/events/details/city-of-st-george-4th-of-july-celebration-07-04-2016-9021
END:VEVENT

END:VCALENDAR
