BEGIN:VCALENDAR
VERSION:2.0
PRODID:-//ChamberMaster//Event Calendar 2.0//EN
METHOD:PUBLISH
X-PUBLISHED-TTL:P3D
REFRESH-INTERVAL:P3D
CALSCALE:GREGORIAN
BEGIN:VEVENT
DTSTART:20130922T160000Z
DTEND:20130922T190000Z
X-MICROSOFT-CDO-ALLDAYEVENT:FALSE
SUMMARY:Church in the Park
DESCRIPTION:Calvary Chapel St. George invites you to "Church in the Park"\,\n\nSeptember 22\, 10AM @ Vernon Worthen Park 400 East 300 South.\n\nA picnic will be provided immediately following the service.\n\nBring a friend\, a chair and enjoy worship services and fellowship in the park. \n\nMore information is @ 435-674-4955 or go to  www.calvaryinthepark.com
X-ALT-DESC;FMTTYPE=text/html:Calvary Chapel St. George invites you to &quot\;Church in the Park&quot\;\,<br />\nSeptember 22\, 10AM @ Vernon Worthen Park&nbsp\;400 East 300 South.<br />\nA picnic will be provided immediately following the service.<br />\nBring a friend\, a chair and enjoy worship services and fellowship in the park.&nbsp\;<br />\nMore information is @ 435-674-4955 or go to&nbsp\; www.calvaryinthepark.com
LOCATION:Vernon Worthen Park @ 400 East 300 South
UID:e.1117.4274
SEQUENCE:3
DTSTAMP:20260421T233008Z
URL:https://business.stgeorgechamber.com/events/details/church-in-the-park-09-22-2013-4274
END:VEVENT

END:VCALENDAR
