BEGIN:VCALENDAR
VERSION:2.0
PRODID:-//ChamberMaster//Event Calendar 2.0//EN
METHOD:PUBLISH
X-PUBLISHED-TTL:P3D
REFRESH-INTERVAL:P3D
CALSCALE:GREGORIAN
BEGIN:VEVENT
DTSTART:20151219T013000Z
DTEND:20151219T040000Z
X-MICROSOFT-CDO-ALLDAYEVENT:FALSE
SUMMARY:Christmas in the Canyon
DESCRIPTION:Tuacahn's Christmas In The Canyon is presented every Thursday\, Friday and Saturday evenings and is Tuacahn's way of saying "Thank you" to the community for its support and to remind us all of the true meaning of Christmas. A Live Nativity is presented each night in the Amphitheatre at 7:00 and 8:00 PM. Cost to get into the Live Nativity is $2.00 per ticket or $15.00 per family (Limit 10 family members).
X-ALT-DESC;FMTTYPE=text/html:Tuacahn's Christmas In The Canyon is presented every Thursday\, Friday and Saturday evenings and is Tuacahn's way of saying "Thank you" to the community for its support and to remind us all of the true meaning of Christmas. A Live Nativity is presented each night in the Amphitheatre at 7:00 and 8:00 PM. Cost to get into the Live Nativity is $2.00 per ticket or $15.00 per family (Limit 10 family members).
LOCATION:Tuacahn 1100 Tuacahn Drive Ivins\, UT
UID:e.1117.7366
SEQUENCE:3
DTSTAMP:20260420T051109Z
URL:https://business.stgeorgechamber.com/events/details/christmas-in-the-canyon-12-18-2015-7366
END:VEVENT

END:VCALENDAR
