BEGIN:VCALENDAR
VERSION:2.0
PRODID:-//ChamberMaster//Event Calendar 2.0//EN
METHOD:PUBLISH
X-PUBLISHED-TTL:P3D
REFRESH-INTERVAL:P3D
CALSCALE:GREGORIAN
BEGIN:VEVENT
DTSTART:20151225T010000Z
DTEND:20151225T030000Z
X-MICROSOFT-CDO-ALLDAYEVENT:FALSE
SUMMARY:Christmas Eve Service at the Dixie Center
DESCRIPTION:Calvary Chapel St. George invites you and your family to a traditional Christmas Eve Service at the Dixie Center.  This is a non-denominational service.
X-ALT-DESC;FMTTYPE=text/html:Calvary Chapel St. George invites you and your family to a traditional Christmas Eve Service at the Dixie Center. &nbsp\;This is a non-denominational service.
LOCATION:Dixie Convention Center 1835 Convention Center Drive St. George\, Utah
UID:e.1117.7382
SEQUENCE:3
DTSTAMP:20260420T031639Z
URL:https://business.stgeorgechamber.com/events/details/christmas-eve-service-at-the-dixie-center-12-24-2015-7382
END:VEVENT

END:VCALENDAR
