BEGIN:VCALENDAR
VERSION:2.0
PRODID:-//ChamberMaster//Event Calendar 2.0//EN
METHOD:PUBLISH
X-PUBLISHED-TTL:P3D
REFRESH-INTERVAL:P3D
CALSCALE:GREGORIAN
BEGIN:VEVENT
DTSTART:20131225T010000Z
DTEND:20131225T023000Z
X-MICROSOFT-CDO-ALLDAYEVENT:FALSE
SUMMARY:Christmas Eve Service at the Dixie Center
DESCRIPTION:Calvary Chapel St. George invites you and your family to a traditional Christmas Eve Service at the Dixie Center\, Tuesday\, December 24 @ 6 PM. There is no charge. For more information go online @ www.CalvaryChristmas.com  or call  435-674-4955.
X-ALT-DESC;FMTTYPE=text/html:Calvary Chapel St. George invites you and your family to a traditional Christmas Eve Service at the Dixie Center\, Tuesday\, December 24 @ 6 PM. There is no charge. For more information go online @ www.CalvaryChristmas.com &nbsp\;or call &nbsp\;435-674-4955.
LOCATION:The Dixie Center
UID:e.1117.4984
SEQUENCE:3
DTSTAMP:20260421T171530Z
URL:https://business.stgeorgechamber.com/events/details/christmas-eve-service-at-the-dixie-center-12-24-2013-4984
END:VEVENT

END:VCALENDAR
