BEGIN:VCALENDAR
VERSION:2.0
PRODID:-//ChamberMaster//Event Calendar 2.0//EN
METHOD:PUBLISH
X-PUBLISHED-TTL:P3D
REFRESH-INTERVAL:P3D
CALSCALE:GREGORIAN
BEGIN:VEVENT
DTSTART:20151225T000000Z
DTEND:20151225T013000Z
X-MICROSOFT-CDO-ALLDAYEVENT:FALSE
SUMMARY:Christmas Eve Service
DESCRIPTION:Join congregants of Grace Episcopal Church in a celebratory service of the birth of our Savior Jesus Christ. Holy Eucharist & Carols Light Refreshments and Hospitality follow the service.
X-ALT-DESC;FMTTYPE=text/html:Join congregants of Grace Episcopal Church in a celebratory service of the birth of our Savior Jesus Christ. Holy Eucharist &amp\; Carols Light Refreshments and Hospitality follow the service.
LOCATION:Grace Episcopal Church 1072 East 900 South St George
UID:e.1117.7377
SEQUENCE:3
DTSTAMP:20260420T031136Z
URL:https://business.stgeorgechamber.com/events/details/christmas-eve-service-12-24-2015-7377
END:VEVENT

END:VCALENDAR
