BEGIN:VCALENDAR
VERSION:2.0
PRODID:-//ChamberMaster//Event Calendar 2.0//EN
METHOD:PUBLISH
X-PUBLISHED-TTL:P3D
REFRESH-INTERVAL:P3D
CALSCALE:GREGORIAN
BEGIN:VEVENT
DTSTART:20141210T160000Z
DTEND:20141213T000000Z
X-MICROSOFT-CDO-ALLDAYEVENT:FALSE
SUMMARY:Christmas Ceramic Exhibit
DESCRIPTION:Just in time for the holiday shopping season\, the Dixie State University art department will hold its annual Student and Faculty Winter Ceramic Exhibit and Sale this Wednesday through Friday\, Dec. 10-12.  The sale is open to the public. \n\n \n\nNow in its 39th year\, this annual Dixie State holiday tradition features the works of several art program students who use the sale to help pay for their college education. Hundreds of hand-made ceramic and pottery pieces\, including a variety of artistic and functional stoneware\, will be on sale at reasonable prices\, with 20% of all proceeds going to support the DSU art department. \n\n \n\nThe holiday sale is the first of two sales DSU's art department holds each year\, including a similar sale toward the end of spring semester.
X-ALT-DESC;FMTTYPE=text/html:<p><span style="font-size:14px\;"><span style="font-family:arial\;"><span style="color:black\;">Just in time for the holiday shopping season\, the Dixie State University art department will hold its annual Student and Faculty Winter Ceramic Exhibit and Sale this Wednesday&nbsp\;through&nbsp\;Friday\, Dec. 10-12. &nbsp\;The sale is open to the public. </span><br />\n&nbsp\;<br />\n<span style="color:black\;">Now in its 39th year\, this annual Dixie State holiday tradition features the works of several art program students who use the sale to help pay for their college education. Hundreds of hand-made ceramic and pottery pieces\, including a variety of artistic and functional stoneware\, will be on sale at reasonable prices\, with 20% of all proceeds going to support the DSU art department. </span><br />\n&nbsp\;<br />\n<span style="color:black\;">The holiday sale is the first of two sales DSU&rsquo\;s art department holds each year\, including a similar sale toward the end of spring semester.</span></span></span></p>\n
LOCATION:DSC North Plaza Art Building (west entrance foyer) 55 South 900 East
UID:e.1117.6233
SEQUENCE:3
DTSTAMP:20260420T233706Z
URL:https://business.stgeorgechamber.com/events/details/christmas-ceramic-exhibit-12-10-2014-6233
END:VEVENT

END:VCALENDAR
