BEGIN:VCALENDAR
VERSION:2.0
PRODID:-//ChamberMaster//Event Calendar 2.0//EN
METHOD:PUBLISH
X-PUBLISHED-TTL:P3D
REFRESH-INTERVAL:P3D
CALSCALE:GREGORIAN
BEGIN:VEVENT
DTSTART:20150310T013000Z
DTEND:20150310T030000Z
X-MICROSOFT-CDO-ALLDAYEVENT:FALSE
SUMMARY:Chris Proctor in Concert at Tuacahn
DESCRIPTION:Don't miss this amazing performance\, one night only! One of the best guitarists in the nation\, and U.S. National Fingerstyle Champion.\n\nFun Facts About Chris Proctor:\n\n\n	He is an acclaimed composer of original music and a wonderful arranger for the 6 and 12-string guitars.\n	He is a performer with a gift for communicating the tremendous variety\, vitality\, and accessibility of his music.\n	His amazing variety of guitar sounds and textures\, and the rich tapestry of bass\, melody\, and inner voices\, bring an orchestral quality to his music that surprises and delights audiences who haven't heard him before.\n	His compositions and arrangements shine with folk\, jazz\, pop\, classical\, and ethnic influences.\n	He is a superlative workshop\, master class and residency/outreach leader\,  author of numerous instructional articles in the guitar press\, and producer of two world-class instructional videos for 6 and 12-string players.
X-ALT-DESC;FMTTYPE=text/html:<p style="color: rgb(0\, 0\, 0)\; font-family: Arial\; font-size: 12px\; line-height: 140%\; margin: 0px\;"><span style="font-size:14px\;"><span style="font-family:arial\;">Don&#39\;t miss this amazing performance\, one night only! One of the best guitarists in the nation\, and U.S. National Fingerstyle Champion.<br />\nFun Facts About Chris Proctor:</span></span></p>\n\n<ul>\n	<li><span style="font-size:14px\;"><span style="font-family:arial\;">He is an acclaimed composer of original music and a wonderful arranger for the 6 and 12-string guitars.</span></span></li>\n	<li><span style="font-size:14px\;"><span style="font-family:arial\;">He is a performer with a gift for communicating the tremendous variety\, vitality\, and accessibility of his music.</span></span></li>\n	<li><span style="font-size:14px\;"><span style="font-family:arial\;">His amazing variety of guitar sounds and textures\, and the rich tapestry of bass\, melody\, and inner voices\, bring an orchestral quality to his music that surprises and delights audiences who haven&rsquo\;t heard him before.</span></span></li>\n	<li><span style="font-size:14px\;"><span style="font-family:arial\;">His compositions and arrangements shine with folk\, jazz\, pop\, classical\, and ethnic influences.</span></span></li>\n	<li><span style="font-size:14px\;"><span style="font-family:arial\;">He is a superlative workshop\, master class and residency/outreach leader\,&nbsp\; author of numerous instructional articles in the guitar press\, and producer of two world-class instructional videos for 6 and 12-string players.</span></span></li>\n</ul>\n
LOCATION:Hafen Theater 1100 Tuacahn Drive Ivins\, Utah
UID:e.1117.6343
SEQUENCE:3
DTSTAMP:20260420T191013Z
URL:https://business.stgeorgechamber.com/events/details/chris-proctor-in-concert-at-tuacahn-03-09-2015-6343
END:VEVENT

END:VCALENDAR
