BEGIN:VCALENDAR
VERSION:2.0
PRODID:-//ChamberMaster//Event Calendar 2.0//EN
METHOD:PUBLISH
X-PUBLISHED-TTL:P3D
REFRESH-INTERVAL:P3D
CALSCALE:GREGORIAN
BEGIN:VEVENT
DTSTART:20150913T013000Z
DTEND:20150913T030000Z
X-MICROSOFT-CDO-ALLDAYEVENT:FALSE
SUMMARY:Chris Proctor Concert
DESCRIPTION:CHRIS PROCTOR -- US NATIONAL FINGERSTYLE CHAMPION STEEL STRING GUITARIST Here is one reviewer's attempt to characterize the essence of Chris Proctor's music: "What to call his unique melange of styles?There's an aspect of Americana in the echoes of Appalachian and old-time styles that are apparent in just about every track\, but there are also elements of jazz\, Celtic folk\, and a dash of blues in here somewhere. What Proctor does is create guitar music that reflects the whole heritage of the instrument and still has his own distinct stamp - a tall order\, but he's up to the job." Other critics call his guitar playing "breathtaking\," "haunting\," and "rich." Guitar magazines describe his compositions as "spectacular\," "elegant\," and "exquisite\," and praise his twelve-string work as "revelatory."  Media reviewers trace the roots of his style to folk\, jazz\, pop\, and classical music\, categorize his playing as "Baroque Folk\," "New World Steel String\," "Solo Guitar Orchestra\," "Instrumental Americana\," and compare him to Leo Kottke and Michael Hedges. http://chrisproctor.com/
X-ALT-DESC;FMTTYPE=text/html:CHRIS PROCTOR -- US NATIONAL FINGERSTYLE CHAMPION STEEL STRING GUITARIST Here is one reviewer&#39\;s attempt to characterize the essence of Chris Proctor&#39\;s music: &quot\;What to call his unique melange of styles?There&#39\;s an aspect of Americana in the echoes of Appalachian and old-time styles that are apparent in just about every track\, but there are also elements of jazz\, Celtic folk\, and a dash of blues in here somewhere. What Proctor does is create guitar music that reflects the whole heritage of the instrument and still has his own distinct stamp -&nbsp\;a tall order\, but he&#39\;s up to the job.&quot\; Other critics call his guitar playing &quot\;breathtaking\,&quot\; &quot\;haunting\,&quot\; and &quot\;rich.&quot\; Guitar magazines describe his compositions as &quot\;spectacular\,&quot\; &quot\;elegant\,&quot\; and &quot\;exquisite\,&quot\; and praise his twelve-string work as &quot\;revelatory.&quot\; &nbsp\;Media reviewers trace the roots of his style to folk\, jazz\, pop\, and classical music\, categorize his playing as &quot\;Baroque Folk\,&quot\; &quot\;New World Steel String\,&quot\; &quot\;Solo Guitar Orchestra\,&quot\; &quot\;Instrumental Americana\,&quot\; and compare him to Leo Kottke and Michael Hedges. http://chrisproctor.com/
LOCATION:The DiFiore Center
UID:e.1117.7048
SEQUENCE:3
DTSTAMP:20260420T084822Z
URL:https://business.stgeorgechamber.com/events/details/chris-proctor-concert-09-12-2015-7048
END:VEVENT

END:VCALENDAR
