BEGIN:VCALENDAR
VERSION:2.0
PRODID:-//ChamberMaster//Event Calendar 2.0//EN
METHOD:PUBLISH
X-PUBLISHED-TTL:P3D
REFRESH-INTERVAL:P3D
CALSCALE:GREGORIAN
BEGIN:VEVENT
DTSTART:20151009T140000Z
DTEND:20151009T150000Z
X-MICROSOFT-CDO-ALLDAYEVENT:FALSE
SUMMARY:"Choose Well" Corporate Wellness Walk featuring Red Hills Desert Garden
DESCRIPTION:Join the St. George Chamber of Commerce and Dixie Regional Medical Center in our monthly wellness walk!  These walks will take place every second Friday of the month and will begin at 7am (or 8am depending on time of year) and last no longer than one hour.\n\nFor the month of October\, we will be meeting at the newly constructed Red Hills Desert Garden.\n\nThe nearly 5-acre\, approximately $3 million project underscores Washington County Water Conservancy District's ongoing commitment to water conservation and education. More than 170 low water use plants boast color\, texture and dimension to create a picturesque garden showcasing the beauty of desert landscapes that use an average of 77 percent less water than a traditional landscape every year. The garden features native and nonnative vegetation that thrives in our climate. Plants are organized in various zones: yucca\, agave\, flower\, cactus\, etc. Central to the garden is a 1\,150-foot meandering stream that will be stocked with native and endangered fish species. The garden also features a fish viewing area located in a replica slot canyon\, a prominent feature in the garden that pays tribute to Southern Utah's natural landscape.
X-ALT-DESC;FMTTYPE=text/html:<p><span style="font-size:14px\;"><span style="font-family:arial\;"><span style="color:#000000\;">Join the St. George Chamber of Commerce and Dixie Regional Medical Center in our monthly wellness walk! &nbsp\;These walks will take place every second Friday of the month and will begin at 7am (or 8am depending on time of year) and last no longer than one hour.<br />\nFor the month of October\, we will be meeting at the newly constructed Red Hills Desert Garden.</span><br />\n<span style="background-image:initial\;background-attachment:initial\;background-size:initial\;background-origin:initial\;background-clip:initial\;background-position:initial\;background-repeat:initial\;"><span style="color:black\;">The nearly 5-acre\, approximately $3 million project underscores Washington County Water Conservancy District&rsquo\;s ongoing commitment to water conservation and education.&nbsp\;</span></span><span style="color:black\;"><span style="background-image:initial\;background-attachment:initial\;background-size:initial\;background-origin:initial\;background-clip:initial\;background-position:initial\;background-repeat:initial\;">More than 170 low water use plants boast color\, texture and dimension to create a picturesque garden showcasing the beauty of desert landscapes that use an average of 77 percent less water than a traditional landscape every year. The garden features native and nonnative vegetation that thrives in our climate. Plants are organized in various zones: yucca\, agave\, flower\, cactus\, etc. Central to the garden is a 1\,150-foot meandering stream that will be stocked with native and endangered fish species. The garden also features a fish viewing area located in a replica slot canyon\, a prominent feature in the garden that pays tribute to Southern Utah&rsquo\;s natural landscape.&nbsp\;</span></span></span></span></p>\n
LOCATION:Red Hills Desert Garden 375 N. Red Hills Parkway St. George
UID:e.1117.7111
SEQUENCE:3
DTSTAMP:20260420T065535Z
URL:https://business.stgeorgechamber.com/events/details/choose-well-corporate-wellness-walk-featuring-red-hills-desert-garden-10-09-2015-7111
END:VEVENT

END:VCALENDAR
