BEGIN:VCALENDAR
VERSION:2.0
PRODID:-//ChamberMaster//Event Calendar 2.0//EN
METHOD:PUBLISH
X-PUBLISHED-TTL:P3D
REFRESH-INTERVAL:P3D
CALSCALE:GREGORIAN
BEGIN:VEVENT
DTSTART:20150911T130000Z
DTEND:20150911T140000Z
X-MICROSOFT-CDO-ALLDAYEVENT:FALSE
SUMMARY:"Choose Well" Corporate Wellness Walk featuring Historic Downtown St. George
DESCRIPTION:Join the St. George Chamber of Commerce and Dixie Regional Medical Center in our inaugural monthly wellness walk!  The walks will take place every second Friday of the month and will begin at 7am and last no longer than one hour.\n\nMeet in the courtyard of Ancestor Square\, then guided by Washington County Administrator Dean Cox\, the group will make their way around the block\, visiting and learning more about the history of St. George.\n\nOthers to follow:  Washington County Red Hills Garden on October 9 and Red Mountain Resort and Spa on November 13.
X-ALT-DESC;FMTTYPE=text/html:<p><span style="font-size:14px\;"><span style="font-family:arial\;"><span style="color:#000000\;">Join the St. George Chamber of Commerce and Dixie Regional Medical Center in our inaugural monthly wellness walk! &nbsp\;The walks will take place every second Friday of the month and will begin at 7am and last no longer than one hour.<br />\nMeet in the courtyard of Ancestor Square\, then guided by Washington County Administrator&nbsp\;Dean Cox\,&nbsp\;the group will make their way around the block\, visiting and learning more about the history of St. George.</span><br />\n<span style="color: rgb(0\, 0\, 0)\; line-height: 20.7999992370605px\;">Others to follow: &nbsp\;Washington County Red Hills&nbsp\;Garden on October 9 and Red Mountain Resort and Spa on November 13.</span></span></span></p>\n
LOCATION:Ancestor Square Courtyard
UID:e.1117.7076
SEQUENCE:3
DTSTAMP:20260420T102257Z
URL:https://business.stgeorgechamber.com/events/details/choose-well-corporate-wellness-walk-featuring-historic-downtown-st-george-09-11-2015-7076
END:VEVENT

END:VCALENDAR
