BEGIN:VCALENDAR
VERSION:2.0
PRODID:-//ChamberMaster//Event Calendar 2.0//EN
METHOD:PUBLISH
X-PUBLISHED-TTL:P3D
REFRESH-INTERVAL:P3D
CALSCALE:GREGORIAN
BEGIN:VEVENT
DTSTART:20151113T233000Z
DTEND:20151114T010000Z
X-MICROSOFT-CDO-ALLDAYEVENT:FALSE
SUMMARY:"Choose Well" Corporate Wellness Walk at Red Mountain Resort & Spa
DESCRIPTION:Join the St. George Chamber of Commerce and Dixie Regional Medical Center in our monthly wellness walk!  \n\nThe Friday November 13th  Chamber/Live Well walk will be held at the renowned Red Mountain Resort at 1275 E. Red Mountain Circle in Ivins.  Starting at the Glen Canyon Gazebo\, we'll tour the resort and you'll even get a little red dirt in your shoes on the Inspiration Trail that winds through the lava fields overlooking the red mountains of Snow Canyon.  Remember\, Red Mountain is an active destination retreat\, so feel free to wear your hiking/workout clothes.  After your walk\, we'll enjoy hot cocoa and hot spiced apple cider with light snacks.  Participants will earn a 2-for-1 dinner certificate at Canyon Breeze Restaurant.
X-ALT-DESC;FMTTYPE=text/html:<p><span style="color:#000000\;"><span style="font-size:14px\;"><span style="font-family:arial\;">Join the St. George Chamber of Commerce and Dixie Regional Medical Center in our monthly wellness walk! &nbsp\;<br />\nThe Friday November 13<sup>th</sup> &nbsp\;Chamber/Live Well walk will be held at the renowned Red Mountain Resort at 1275 E. Red Mountain Circle in Ivins. &nbsp\;Starting at the Glen Canyon Gazebo\, we&rsquo\;ll tour the resort and you&rsquo\;ll even get a little red dirt in your shoes on the Inspiration Trail that winds through the lava fields overlooking the red mountains of Snow Canyon.&nbsp\; Remember\, Red Mountain is an active destination retreat\, so feel free to wear your hiking/workout clothes.&nbsp\; After your walk\, we&rsquo\;ll enjoy hot cocoa and hot spiced apple cider with light snacks. &nbsp\;Participants will earn a 2-for-1 dinner certificate at Canyon Breeze Restaurant. &nbsp\;&nbsp\;</span></span></span></p>\n
LOCATION:Red Mountain Resort 1275 E. Red Mountain Circle Ivins
UID:e.1117.7280
SEQUENCE:3
DTSTAMP:20260420T051603Z
URL:https://business.stgeorgechamber.com/events/details/choose-well-corporate-wellness-walk-at-red-mountain-resort-spa-11-13-2015-7280
END:VEVENT

END:VCALENDAR
