BEGIN:VCALENDAR
VERSION:2.0
PRODID:-//ChamberMaster//Event Calendar 2.0//EN
METHOD:PUBLISH
X-PUBLISHED-TTL:P3D
REFRESH-INTERVAL:P3D
CALSCALE:GREGORIAN
BEGIN:VEVENT
DTSTART:20150814T130000Z
DTEND:20150814T140000Z
X-MICROSOFT-CDO-ALLDAYEVENT:FALSE
SUMMARY:"Choose Well" Corporate Wellness Walk
DESCRIPTION:Join the St. George Chamber of Commerce and Dixie Regional Medical Center in our inaugural monthly wellness walk!  The walks will take place every second Friday of the month beginning at Dixie Regional on Friday\, August 14.  Each walk will begin at 7am and last no longer than one hour.\n\nMeet at the LiVe Well Center\, then guided by the landscapers at Dixie Regional\, the group will make their way to the main campus and the newly constructed labyrinth.  Landscapers will share some aspirations\, plants and techniques with those in attendance.\n\nOthers to follow:  Downtown St. George on September 11 and Washington County Water Garden on October 9.
X-ALT-DESC;FMTTYPE=text/html:<p><span style="font-size:14px\;"><span style="font-family:arial\;"><span style="color:#000000\;">Join the St. George Chamber of Commerce and Dixie Regional Medical Center in our inaugural monthly wellness walk! &nbsp\;The walks will take place every second Friday of the month beginning at Dixie Regional on Friday\, August 14. &nbsp\;Each&nbsp\;walk will begin at 7am and last no longer than one hour.<br />\nMeet at the LiVe Well Center\, then guided by the landscapers at Dixie Regional\, the group will make their way to the main campus and the newly constructed labyrinth. &nbsp\;Landscapers will share&nbsp\;some aspirations\, plants and techniques with those in attendance.</span><br />\n<span style="color: rgb(0\, 0\, 0)\; line-height: 20.7999992370605px\;">Others to follow:&nbsp\; Downtown St. George on September 11 and Washington County Water Garden on October 9.&nbsp\;</span></span></span></p>\n
LOCATION:LiVe Well Center 652 S. Medical Center Drive St. George
UID:e.1117.6997
SEQUENCE:3
DTSTAMP:20260420T103252Z
URL:https://business.stgeorgechamber.com/events/details/choose-well-corporate-wellness-walk-08-14-2015-6997
END:VEVENT

END:VCALENDAR
