BEGIN:VCALENDAR
VERSION:2.0
PRODID:-//ChamberMaster//Event Calendar 2.0//EN
METHOD:PUBLISH
X-PUBLISHED-TTL:P3D
REFRESH-INTERVAL:P3D
CALSCALE:GREGORIAN
BEGIN:VEVENT
DTSTART:20160323T220000Z
DTEND:20160323T230000Z
X-MICROSOFT-CDO-ALLDAYEVENT:FALSE
SUMMARY:Charles Schwab workshop - Reassessing Risk in your Portfolio
DESCRIPTION:At Schwab\, we believe it's a good idea to reassess your risk tolerance periodically as your life and goals change\, as well as after a major market downturn.\n\n			By aligning the risk in your portfolio with your own goals\, time horizon and risk tolerance   you are less likely to make hasty or irrational investment decisions in the short term\, because you will have a longer-term investing strategy in place. This makes it more likely you will stick with your chances of meeting your investing goals.
X-ALT-DESC;FMTTYPE=text/html:<table border="1" cellpadding="7" cellspacing="0" dir="LTR" style="width:573px">\n	<tbody>\n		<tr>\n			<td>\n			<p>At Schwab\, we believe it&rsquo\;s a good idea to reassess your risk tolerance periodically as your life and goals change\, as well as after a major market downturn.</p>\n\n			<p>By aligning the risk in your portfolio with your own goals\, time horizon and risk tolerance &ndash\; you are less likely to make hasty or irrational investment decisions in the short term\, because you will have a longer-term investing strategy in place. This makes it more likely you will stick with your chances of meeting your investing goals.</p>\n			</td>\n		</tr>\n	</tbody>\n</table>\n
LOCATION:St George branch\, 15 S River Road #130
UID:e.1117.8444
SEQUENCE:3
DTSTAMP:20260419T220007Z
URL:https://business.stgeorgechamber.com/events/details/charles-schwab-workshop-reassessing-risk-in-your-portfolio-03-23-2016-8444
END:VEVENT

END:VCALENDAR
