BEGIN:VCALENDAR
VERSION:2.0
PRODID:-//ChamberMaster//Event Calendar 2.0//EN
METHOD:PUBLISH
X-PUBLISHED-TTL:P3D
REFRESH-INTERVAL:P3D
CALSCALE:GREGORIAN
BEGIN:VEVENT
DTSTART:20150923T220000Z
DTEND:20150923T230000Z
X-MICROSOFT-CDO-ALLDAYEVENT:FALSE
SUMMARY:Charles Schwab Workshop - Municipal Bonds: A Closer Look
DESCRIPTION:Investors often overlook Fixed Income because it seems complicated. This can be especially true of municipal bonds.  Having information about risks and rewards and what to be prepared for will help you make more informed choices.\n\n \n\nRegister with a branch representative or \n\nonline at Schwab.com/stgeorge
X-ALT-DESC;FMTTYPE=text/html:<span style="font-size:16pt"><span style="font-family:calibri">Investors often overlook Fixed Income because it seems complicated. This can be especially true of municipal bonds.&nbsp\; Having information about risks and rewards and what to be prepared for will help you make more informed choices.</span></span><br />\n&nbsp\;<br />\n<span style="font-size:16pt"><span style="font-family:calibri">Register with a branch representative or </span></span><br />\n<span style="font-size:16pt"><span style="font-family:calibri">online at Schwab.com/stgeorge</span></span><br />\n&nbsp\;
LOCATION:15 S River Rd #130\, St George Utah
UID:e.1117.7049
SEQUENCE:3
DTSTAMP:20260420T085016Z
URL:https://business.stgeorgechamber.com/events/details/charles-schwab-workshop-municipal-bonds-a-closer-look-09-23-2015-7049
END:VEVENT

END:VCALENDAR
