BEGIN:VCALENDAR
VERSION:2.0
PRODID:-//ChamberMaster//Event Calendar 2.0//EN
METHOD:PUBLISH
X-PUBLISHED-TTL:P3D
REFRESH-INTERVAL:P3D
CALSCALE:GREGORIAN
BEGIN:VEVENT
DTSTART:20150819T220000Z
DTEND:20150819T230000Z
X-MICROSOFT-CDO-ALLDAYEVENT:FALSE
SUMMARY:Charles Schwab - Workshop Global Market Snapshot
DESCRIPTION:It has been five years since global growth was as strong and balanced as it is at the midway point of 2015.\n\nJoin Jeffrey Kleintop as he shares insights into the improving conditions in the major regions and considers the impact on investors of shifting trends in political power.
X-ALT-DESC;FMTTYPE=text/html:It has been five years since global growth was as strong and balanced as it is at the midway point of 2015.<br />\nJoin Jeffrey Kleintop as he shares insights into the improving conditions in the major regions and considers the impact on investors of shifting trends in political power.
LOCATION:15 S River Road #130 \, St George UT
UID:e.1117.6985
SEQUENCE:3
DTSTAMP:20260420T103602Z
URL:https://business.stgeorgechamber.com/events/details/charles-schwab-workshop-global-market-snapshot-08-19-2015-6985
END:VEVENT

END:VCALENDAR
