BEGIN:VCALENDAR
VERSION:2.0
PRODID:-//ChamberMaster//Event Calendar 2.0//EN
METHOD:PUBLISH
X-PUBLISHED-TTL:P3D
REFRESH-INTERVAL:P3D
CALSCALE:GREGORIAN
BEGIN:VEVENT
DTSTART:20150723T220000Z
DTEND:20150723T230000Z
X-MICROSOFT-CDO-ALLDAYEVENT:FALSE
SUMMARY:Charles Schwab In Branch Workshop- ETFs explained
DESCRIPTION:Whether you are just starting to look into exchange-traded funds (ETFs) or you need a refresher course\, this presentation can help you gain a better understanding of ETFs\; What they are\, how they work\, how they came into being and whether they are right for you.
X-ALT-DESC;FMTTYPE=text/html:Whether&nbsp\;you are&nbsp\;just starting to look into exchange-traded funds (ETFs) or you need a refresher course\, this presentation can help you gain a better understanding of ETFs\; What they are\, how they work\, how they came into being and whether they are right for you.
LOCATION:15 S River Road \, Ste 130 St George Ut 84790
UID:e.1117.6484
SEQUENCE:3
DTSTAMP:20260420T133133Z
URL:https://business.stgeorgechamber.com/events/details/charles-schwab-in-branch-workshop-etfs-explained-07-23-2015-6484
END:VEVENT

END:VCALENDAR
