BEGIN:VCALENDAR
VERSION:2.0
PRODID:-//ChamberMaster//Event Calendar 2.0//EN
METHOD:PUBLISH
X-PUBLISHED-TTL:P3D
REFRESH-INTERVAL:P3D
CALSCALE:GREGORIAN
BEGIN:VEVENT
DTSTART:20160305T020000Z
DTEND:20160305T040000Z
X-MICROSOFT-CDO-ALLDAYEVENT:FALSE
SUMMARY:Chaparral Poetry Awards Program
DESCRIPTION:Poetry readings of youth and adult winners from the Chaparral Poetry Contest organized by Redrock Writers and funded by a grand from the St. George Arts Commission
X-ALT-DESC;FMTTYPE=text/html:Poetry readings of youth and adult winners from the Chaparral Poetry Contest organized by Redrock Writers and funded by a grand from the St. George Arts Commission
LOCATION:Social Hall 47 East 200 North in St. George
UID:e.1117.7351
SEQUENCE:3
DTSTAMP:20260419T215210Z
URL:https://business.stgeorgechamber.com/events/details/chaparral-poetry-awards-program-03-04-2016-7351
END:VEVENT

END:VCALENDAR
