BEGIN:VCALENDAR
VERSION:2.0
PRODID:-//ChamberMaster//Event Calendar 2.0//EN
METHOD:PUBLISH
X-PUBLISHED-TTL:P3D
REFRESH-INTERVAL:P3D
CALSCALE:GREGORIAN
BEGIN:VEVENT
DTSTART:20140910T173000Z
DTEND:20140910T190000Z
X-MICROSOFT-CDO-ALLDAYEVENT:FALSE
SUMMARY:Chamber Training Series "Working With Others to Not Lose Your Grip"
DESCRIPTION:Only you can prevent a Brand-Jacking\n\nIt can be overwhelming to work with a web development team\, frustrating to understand a graphic designer\, and all together confusing to talk social media. Most marketing and creative folks want to do a good job for you\, but they also want to showcase their talent and skill. It's your job to keep their efforts in check and authentic to your brand. Glenn Price has spent more than 20 years directing creative efforts. In this presentation he will share practical insight into how to work with creative providers and marketing professionals without losing your grip.\n\n \n\nNative to Layton Utah\, Glenn Price spent nearly two decades in New York City directing creative efforts for major brands. Glenn's focus since moving to St. George in 2007 is in helping small brands speak with a bigger voice.
X-ALT-DESC;FMTTYPE=text/html:<p><span style="font-size:14px\;"><span style="font-family:arial\;"><strong>Only you can prevent a Brand-Jacking</strong><br />\nIt can be overwhelming to work with a web development team\, frustrating to understand a graphic designer\, and all together confusing to talk social media. Most marketing and creative folks want to do a good job for you\, but they also want to showcase their talent and skill. It&rsquo\;s your job to keep their efforts in check and authentic to your brand. Glenn Price has spent more than 20 years directing creative efforts. In this presentation he will share practical insight into how to work with creative providers and marketing professionals without losing your grip.<br />\n&nbsp\;<br />\nNative to Layton Utah\, Glenn Price spent nearly two decades in New York City directing creative efforts for major brands. Glenn&rsquo\;s focus since moving to St. George in 2007 is in helping small brands speak with a bigger voice.</span></span></p>\n
LOCATION:The Taylor Health Sciences Auditorium 1526 E. Medical Center Dr.\, St George Take St George Blvd east off I-15 and turn south onto River Road to Medical Center Drive which is the road between Lowes and Intermountain Hospital. Turn left onto Medical Center Drive. The Taylor Building is on the right just past the Jubilee House. There's tons of open parking.
UID:e.1117.6092
SEQUENCE:3
DTSTAMP:20260421T043423Z
URL:https://business.stgeorgechamber.com/events/details/chamber-training-series-working-with-others-to-not-lose-your-grip-09-10-2014-6092
END:VEVENT

END:VCALENDAR
