BEGIN:VCALENDAR
VERSION:2.0
PRODID:-//ChamberMaster//Event Calendar 2.0//EN
METHOD:PUBLISH
X-PUBLISHED-TTL:P3D
REFRESH-INTERVAL:P3D
CALSCALE:GREGORIAN
BEGIN:VEVENT
DTSTART:20160608T173000Z
DTEND:20160608T190000Z
X-MICROSOFT-CDO-ALLDAYEVENT:FALSE
SUMMARY:Chamber Training Series "Increase Your Sales Productivity"
DESCRIPTION:This week's Chamber Training series features Monte Bambrough who will train about:  "Increase your sales productivity and reduce your cost to acquire new customers by implementing a sales process discipline."\n\n \n\nMonte Bambrough has successfully coached & developed hundreds of sales professionals in 35 states and Canada.  His experience includes field sales teams\, inside sales\, e-commerce\, customer service\, B2B & B2C.  Acquired business integration\, SEO/SEM\, brand building and CRM deployment.  He's facilitated sales success in multiple industries with geographically and vertically diverse customers including government\, education\, medical\, professional\, industrial\; privately held and publicly traded companies.\n\n \n\nCo-founding a successful business at the age of 25\, Monte understands the growth challenges that businesses face. He delivers a high energy\, motivational\, immediately actionable presentation laced with humor to enhance retention.  Your team will enjoy the engagement and will take away guidance that will drive measureable improvement in their personal financial results and your bottom line.
X-ALT-DESC;FMTTYPE=text/html:<p style="color: rgb(0\, 0\, 0)\; font-family: Tahoma\, Arial\, sans-serif\; font-size: 13.3333px\; line-height: normal\;"><span style="color:#000000\;"><span style="font-size:14px\;"><span style="font-family:arial\;">This week&#39\;s Chamber Training series features Monte Bambrough who will train about: &nbsp\;&quot\;Increase your sales productivity and reduce your cost to acquire new customers by implementing a sales process discipline.&quot\;<br />\n&nbsp\;<br />\nMonte Bambrough has successfully coached &amp\; developed hundreds of sales professionals in 35 states and Canada.&nbsp\; His experience includes field sales teams\, inside sales\, e-commerce\, customer service\, B2B &amp\; B2C.&nbsp\; Acquired business integration\, SEO/SEM\, brand building and CRM deployment.&nbsp\; He&rsquo\;s facilitated sales success in multiple industries with geographically and vertically diverse customers including government\, education\, medical\, professional\, industrial\; privately held and publicly traded companies.<br />\n&nbsp\;<br />\nCo-founding a successful business at the age of 25\, Monte understands the growth challenges that businesses face. He delivers a high energy\, motivational\, immediately actionable presentation laced with humor to enhance retention.&nbsp\; Your team will enjoy the engagement and will take away guidance that will drive measureable improvement in their personal financial results and your bottom line.</span></span></span></p>\n
LOCATION:The Taylor Health Sciences Auditorium 1526 E. Medical Center Dr.\, St George Take St George Blvd east off I-15 and turn south onto River Road to Medical Center Drive which is the road between Lowes and Intermountain Hospital. Turn left onto Medical Center Drive. The Taylor Building is on the right just past the Jubilee House. There's tons of open parking.
UID:e.1117.8979
SEQUENCE:3
DTSTAMP:20260419T183444Z
URL:https://business.stgeorgechamber.com/events/details/chamber-training-series-increase-your-sales-productivity-06-08-2016-8979
END:VEVENT

END:VCALENDAR
