BEGIN:VCALENDAR
VERSION:2.0
PRODID:-//ChamberMaster//Event Calendar 2.0//EN
METHOD:PUBLISH
X-PUBLISHED-TTL:P3D
REFRESH-INTERVAL:P3D
CALSCALE:GREGORIAN
BEGIN:VEVENT
DTSTART:20140312T173000Z
DTEND:20140312T190000Z
X-MICROSOFT-CDO-ALLDAYEVENT:FALSE
SUMMARY:Chamber Training Series "How To Succeed in Business Through Personal Branding"
DESCRIPTION:Personal Brand:  The Foundation To Successful Careers\n\n \n\nYour career is yours to own.  What do you want it to be and how do you want to be known as your career moves into the future?  That's a big question with powerful ramifications to your success and happiness.  To help you understand what your personal brand should be and how to develop it\, Jennifer will train us by answering four key questions that every business professional should know how to answer when building their personal brand.\n\n \n\n  1.  How to gain personal clarity to define and strategize your brand.\n\n 2.  How to articulate and demonstrate your personal brand so others "get it".\n\n 3.  How your personal brand helps you define your goals and determines where and how you spend your time to develop your career.  \n\n 4.  How to promote your brand through traditional marketing and social media strategies.\n\n\n\nJennifer Armitstead has over 15 years as a career strategist. She is best known for helping people take their career to the next level by determining their personal brand and how to effectively network in-person and online.
X-ALT-DESC;FMTTYPE=text/html:<p><span style="color:#000000\;"><span style="font-size:14px\;"><span style="font-family:arial\;"><strong><u>Personal Brand:&nbsp\; The Foundation To Successful Careers</u></strong><br />\n&nbsp\;<br />\nYour career is yours to own.&nbsp\; What do you want it to be and how do you want to be known as your career moves into the future?&nbsp\; That&rsquo\;s a big question with powerful ramifications to your success and happiness.&nbsp\; To help you understand what your personal brand should be and how to develop it\, Jennifer will train us by answering four key questions that every business professional should know how to answer when building their personal brand.<br />\n&nbsp\;<br />\n&nbsp\;&#8203\;1. &nbsp\;<span style="font-size:14px\;"><span style="font-family:arial\;">How to gain personal clarity to define and strategize your brand.</span></span></span></span></span></p>\n\n<p><span style="color:#000000\;"><span style="font-size:14px\;"><span style="font-family:arial\;">&nbsp\;2. &nbsp\;</span></span><span style="font-family: arial\; font-size: 14px\; line-height: 1.6\;">How to articulate and demonstrate your personal brand so others &ldquo\;get it&rdquo\;.</span></span></p>\n\n<p><span style="color:#000000\;"><span style="font-size:14px\;"><span style="font-family:arial\;">&nbsp\;3. &nbsp\;<span style="font-size:14px\;"><span style="font-family:arial\;">How your personal brand helps you define your goals and determines where and how you spend your time to develop your career.&nbsp\; </span></span></span></span></span></p>\n\n<p><span style="color:#000000\;"><span style="font-size:14px\;"><span style="font-family:arial\;">&nbsp\;4. &nbsp\;</span></span><span style="font-family: arial\; font-size: 14px\; line-height: 1.6\;">How to promote your brand through traditional marketing and social media strategies.</span><br />\n<br />\n<span style="font-family: arial\; font-size: 14px\; line-height: 1.6\;">Jennifer </span>Armitstead<span style="font-family: arial\; font-size: 14px\; line-height: 1.6\;"> has over 15 years as a career strategist. She is best known for helping people take their career to the next level by determining their personal brand and how to effectively network in-person and online.&nbsp\;</span></span></p>\n
LOCATION:The Taylor Health Sciences Auditorium 1526 E. Medical Center Dr.\, St George Take St George Blvd east off I-15 and turn south onto River Road to Medical Center Drive which is the road between Lowes and Intermountain Hospital. Turn left onto Medical Center Drive. The Taylor Building is on the right just past the Jubilee House. There's tons of open parking.
UID:e.1117.5078
SEQUENCE:3
DTSTAMP:20260421T130202Z
URL:https://business.stgeorgechamber.com/events/details/chamber-training-series-how-to-succeed-in-business-through-personal-branding-03-12-2014-5078
END:VEVENT

END:VCALENDAR
