BEGIN:VCALENDAR
VERSION:2.0
PRODID:-//ChamberMaster//Event Calendar 2.0//EN
METHOD:PUBLISH
X-PUBLISHED-TTL:P3D
REFRESH-INTERVAL:P3D
CALSCALE:GREGORIAN
BEGIN:VEVENT
DTSTART:20160309T183000Z
DTEND:20160309T200000Z
X-MICROSOFT-CDO-ALLDAYEVENT:FALSE
SUMMARY:Chamber Training Series "How To Say It Well in Business"
DESCRIPTION:In terms of advertising\, having something good to say means you've innovated your business sufficiently so you have something unique that's worth advertising. Saying it well has to do with taking what you do well and saying it in your advertising in such a way that it gets people to notice and take action.\n\n\n\nAdvertising gives you great leverage on your dollars invested. The words you use and the way you use them in your ads can make all the difference between an ad that works and an ad that fails. The ads you're going to be running will cost you the same amount of money regardless of how well you say it. So leverage your advertising by getting the greatest ROI for the size or time of your ad. \n\n\n\nIf you're responsible for the results of your company's advertising\, you'll need to know how to effectively write your ads. The mind thinks in pictures. Not words\, not ideas\, not concepts\, not abstracts\, but in pictures.\n\n\n\nIn this session\, Chamber trainer Jon Bingham will help you to:  Pay attention to your ads\; Become very interested in what you're selling\; and help you take action.\n\n\n\nSince 1992\, Jon has generated over $292 million in sales and revenue for his clients and partners with outrageous marketing strategies. Strategies that work for any business\, within any profession\, in any industry.  He has trained\, counseled and coached over 1\,200 companies. He has presented workshops\, seminars\, webinars and teleseminars to over 17\,000 business owners across the country.\n\nHe is a public speaker and executive trainer\, husband and proud father to three great kids. He lives in Southern Utah\, enjoys the weather and incredible outdoor activities.\n\n\n\nA few of the Companies he has worked with:\n\nHilton Hotels Vacation Properties\n\nUnited Blood Services\n\nSouthern Nevada Heart Surgeons\n\nSepia Productions\n\nToyota North America\n\nPrudential Real Estate\n\nSignature Lincoln Mercury\n\nGreater Dallas Chamber of Commerce\n\nLas Vegas Chamber of Commerce\n\nDeseret Book\n\nLong Beach Police Department
X-ALT-DESC;FMTTYPE=text/html:<div style="color: rgb(0\, 0\, 0)\; font-family: Tahoma\, Arial\, sans-serif\; font-size: 13.3333px\; line-height: normal\;"><span style="font-size:14px\;"><span style="font-family:arial\;"><span face="Times New Roman" size="3">In terms of advertising\, having something good to say means you&#39\;ve innovated your business sufficiently so you have something unique that&#39\;s worth advertising. Saying it well has to do with taking what you do well and saying it in your advertising in such a way that it gets people to notice and take action.<br />\n<br />\nAdvertising gives you great leverage on your dollars invested. The words you use and the way you use them in your ads can make all the difference between an ad that works and an ad that fails. The ads you&#39\;re going to be running will cost you the same amount of money regardless of how well you say it. So leverage your advertising by getting the greatest ROI for the size or time of your ad.&nbsp\;<br />\n<br />\nIf you&#39\;re responsible for the results of your company&#39\;s advertising\, you&#39\;ll need to know how to effectively write your ads. The mind thinks in pictures. Not words\, not ideas\, not concepts\, not abstracts\, but in pictures.</span><br />\n<br />\nIn this session\, Chamber trainer Jon Bingham will help you to: &nbsp\;<span face="Times New Roman" size="3">Pay attention to your ads\;&nbsp\;Become very interested in what you&#39\;re selling\; and help you take action.</span><br />\n<br />\nSince 1992\, Jon has generated over $292 million in sales and revenue for his clients and partners with outrageous marketing strategies. Strategies that work for any business\, within any profession\, in any industry. &nbsp\;He&nbsp\;has trained\, counseled and coached over 1\,200 companies. He has presented workshops\, seminars\, webinars and teleseminars to over 17\,000 business owners across the country.<br />\nHe is a public speaker and executive trainer\, husband and proud father to three great kids. He lives in Southern Utah\, enjoys the weather and incredible outdoor activities.<br />\n<br />\nA few of the Companies he has worked with:<br />\nHilton Hotels Vacation Properties<br />\nUnited Blood Services<br />\nSouthern Nevada Heart Surgeons<br />\nSepia Productions<br />\nToyota North America<br />\nPrudential Real Estate<br />\nSignature Lincoln Mercury<br />\nGreater Dallas Chamber of Commerce<br />\nLas Vegas Chamber of Commerce<br />\nDeseret Book<br />\nLong Beach Police Department</span></span></div>\n
LOCATION:The Taylor Health Sciences Auditorium 1526 E. Medical Center Dr.\, St George Take St George Blvd east off I-15 and turn south onto River Road to Medical Center Drive which is the road between Lowes and Intermountain Hospital. Turn left onto Medical Center Drive. The Taylor Building is on the right just past the Jubilee House. There's tons of open parking.
UID:e.1117.8470
SEQUENCE:3
DTSTAMP:20260419T234928Z
URL:https://business.stgeorgechamber.com/events/details/chamber-training-series-how-to-say-it-well-in-business-03-09-2016-8470
END:VEVENT

END:VCALENDAR
