BEGIN:VCALENDAR
VERSION:2.0
PRODID:-//ChamberMaster//Event Calendar 2.0//EN
METHOD:PUBLISH
X-PUBLISHED-TTL:P3D
REFRESH-INTERVAL:P3D
CALSCALE:GREGORIAN
BEGIN:VEVENT
DTSTART:20140108T184500Z
DTEND:20140108T200000Z
X-MICROSOFT-CDO-ALLDAYEVENT:FALSE
SUMMARY:Chamber Training Series "How to Eat an Elephant"
DESCRIPTION:"How to Eat An Elephant" The art and science of achieving your biggest and most challenging goals in 2014\n\n \n\nWhat better way to start the New Year than by finding out how you really can "eat an elephant" when it comes to achieving your business goals.  This training will introduce you to the systems and processes that can launch you and your business to the next level of effectiveness. \n\n \n\nThe Three Key Training Skills You'll Learn To Apply:\n\n \n\n1.     How to identify and clarify your one or two biggest business related goals (elephants).\n\n2.     How to organize and break your goals into manageable bite size pieces.\n\n3.     The tools you'll need for consuming and accomplishing each piece of your elephant sized goals.\n\n \n\nTo make it all the more interesting we are literally bringing in a herd of elephants for each one of you to eat as practice for achieving your goals. It will prove to be a highly educational  and entertaining experience as Kip teaches us how to sharpen our teeth and chomp away at the elephant(s) that keeps us awake at night as business owners and managers.
X-ALT-DESC;FMTTYPE=text/html:<span style="font-size:14px\;"><span style="font-family:arial\;"><strong>&ldquo\;How to Eat An Elephant&rdquo\; T</strong><strong><em>he art and science of achieving your biggest and most challenging goals in 2014</em></strong><br />\n&nbsp\;<br />\nWhat better way to start the New Year than by finding out how you really can &ldquo\;eat an elephant&rdquo\; when it comes to achieving your business goals.&nbsp\; This training will introduce you to the systems and processes that can launch you and your business to the next level of effectiveness.&nbsp\;<br />\n&nbsp\;<br />\n<u>The Three Key Training Skills You&rsquo\;ll Learn To Apply:</u><br />\n&nbsp\;<br />\n1.&nbsp\;&nbsp\;&nbsp\;&nbsp\; How to identify and clarify your one or two biggest business related goals (elephants).<br />\n2.&nbsp\;&nbsp\;&nbsp\;&nbsp\; How to organize and break your goals into manageable bite size pieces.<br />\n3.&nbsp\;&nbsp\;&nbsp\;&nbsp\; The tools you&rsquo\;ll need for consuming and accomplishing each piece of your elephant sized goals.<br />\n&nbsp\;<br />\nTo make it all the more interesting we are literally bringing in a herd of elephants for each one of you to eat as practice for achieving your goals. It will prove to be a highly educational&nbsp\; and entertaining experience as Kip teaches us how to sharpen our teeth and chomp away at the elephant(s) that keeps us awake at night as business owners and managers.</span></span><br />\n
LOCATION:The Taylor Health Sciences Auditorium 1526 E. Medical Center Dr.\, St George Take St George Blvd east off I-15 and turn south onto River Road to Medical Center Drive which is the road between Lowes and Intermountain Hospital. Turn left onto Medical Center Drive. The Taylor Building is on the right just past the Jubilee House. There's tons of open parking.
UID:e.1117.4993
SEQUENCE:3
DTSTAMP:20260421T170114Z
URL:https://business.stgeorgechamber.com/events/details/chamber-training-series-how-to-eat-an-elephant-01-08-2014-4993
END:VEVENT

END:VCALENDAR
