BEGIN:VCALENDAR
VERSION:2.0
PRODID:-//ChamberMaster//Event Calendar 2.0//EN
METHOD:PUBLISH
X-PUBLISHED-TTL:P3D
REFRESH-INTERVAL:P3D
CALSCALE:GREGORIAN
BEGIN:VEVENT
DTSTART:20160210T183000Z
DTEND:20160210T200000Z
X-MICROSOFT-CDO-ALLDAYEVENT:FALSE
SUMMARY:Chamber Training Series "How to Build a Referral Only Business"
DESCRIPTION:Journeying back from a near death experience\, John A. Breaux will share his inspirational message that will touch your hearts and inspire you to reach for greater personal success.  Currently working with local business owners\, executives\, and sales professionals\, he will train Chamber members on a new currency that will "connect" you with an unlimited supply of referral customers.\n\nIn this month's Chamber Training\, John Breaux will train on "How To Build a Referral Only Business."  John is committed to providing his customers with specific tools\, training\, coaching\, consulting\, materials and support\, designed to improve sales\, marketing\, and business results\, while experiencing a more fulfilling personal life.\n\n\n\nJohn Breaux has worked with thousands of individuals\, professionals\, and businesses from every walk of life. Some of these include CPA's\, Attorney's\, CFO's\, Accountant\, Bookkeepers\, Start Up Firms\, Top Selling Authors\, Sales Professionals\, Chiropractors\, Alternative Healing Providers\, Realtors\, Loan Officers\, Financial Planners\, Insurance Agents\, MLM professionals\, Direct Sales Individuals and companies\, Heating & Air\, Plumbers\, Electricians\, Roofers\, Landscapers\, Retail\, IT professionals\, Auto repair\, Truck Sales\, Restaurants and more.
X-ALT-DESC;FMTTYPE=text/html:<p><span style="color:#000000\;"><span style="font-size:14px\;"><span style="font-family:arial\;">Journeying back from a near death experience\, John A. Breaux will share his inspirational message that will touch your hearts and inspire you to reach for greater personal success.&nbsp\; Currently working with local business owners\, executives\, and sales professionals\, he will train Chamber members on a new currency that will &ldquo\;connect&rdquo\; you with an unlimited supply of referral customers.<br />\nIn this month&#39\;s Chamber Training\, John Breaux&nbsp\;will train on &quot\;How To Build a Referral Only Business.&quot\; &nbsp\;John&nbsp\;is committed to providing his customers with specific tools\, training\, coaching\, consulting\, materials and support\, designed to improve sales\, marketing\, and business results\, while experiencing a more fulfilling personal life.<br />\n<br />\nJohn Breaux has worked with thousands of individuals\, professionals\, and businesses from every walk of life. Some of these include CPA&#39\;s\, Attorney&#39\;s\, CFO&#39\;s\, Accountant\, Bookkeepers\, Start Up Firms\, Top Selling Authors\, Sales Professionals\, Chiropractors\, Alternative Healing Providers\, Realtors\, Loan Officers\, Financial Planners\, Insurance Agents\, MLM professionals\, Direct Sales Individuals and companies\, Heating &amp\; Air\, Plumbers\, Electricians\, Roofers\, Landscapers\, Retail\, IT professionals\, Auto repair\, Truck Sales\, Restaurants and more. &nbsp\;</span></span></span></p>\n
LOCATION:The Taylor Health Sciences Auditorium 1526 E. Medical Center Dr.\, St George Take St George Blvd east off I-15 and turn south onto River Road to Medical Center Drive which is the road between Lowes and Intermountain Hospital. Turn left onto Medical Center Drive. The Taylor Building is on the right just past the Jubilee House. There's tons of open parking.
UID:e.1117.8442
SEQUENCE:3
DTSTAMP:20260419T234928Z
URL:https://business.stgeorgechamber.com/events/details/chamber-training-series-how-to-build-a-referral-only-business-02-10-2016-8442
END:VEVENT

END:VCALENDAR
