BEGIN:VCALENDAR
VERSION:2.0
PRODID:-//ChamberMaster//Event Calendar 2.0//EN
METHOD:PUBLISH
X-PUBLISHED-TTL:P3D
REFRESH-INTERVAL:P3D
CALSCALE:GREGORIAN
BEGIN:VEVENT
DTSTART:20150610T173000Z
DTEND:20150610T190000Z
X-MICROSOFT-CDO-ALLDAYEVENT:FALSE
SUMMARY:Chamber Training Series featuring Ray Buttars "Permission to Live"
DESCRIPTION:Permission to Live\, is a novel which tells the story of one man's path to "filling the vacancy"\, which remains for so many of us who've achieved a level of material or professional success and cultural or religious conformity\, yet still feel a hole.  A very full life which is very unfulfilling. It opens with a recurring epiphany that\, perhaps\, you too\, have felt: A realization that achievement is not gratifying to the whole person.  Further\, the main character is battling a one of life's most difficult decisions:   "It was something that I knew to be wrong\, yet my heart couldn't be more certain that it was right."Readers are engaged\, connecting with the emotion-stirring\, life-like situations and characters\, and will be inspired and empowered as the story unfolds.  Experiences with a "witch\," challenges with family\, career and community\, as well as learning opportunities with counselors\, coaches and people from every day life contribute to the life-lessons of the story. As in his mentoring\, with this introspective novel Ray teaches his concepts of The Four Keys and The Master Key. Concepts which can unshackle individuals\, relationships and groups\, enabling Permission to Live.
X-ALT-DESC;FMTTYPE=text/html:<p><span style="font-size:14px\;"><span style="font-family:arial\;">Permission to Live\, is a novel which tells the story of one man&#39\;s path to &quot\;filling the vacancy&quot\;\, which remains for so many of us who&#39\;ve achieved a level of material or professional success and cultural or religious conformity\, yet still feel a hole.&nbsp\; A very full life which is very unfulfilling. It opens with a recurring epiphany that\, perhaps\, you too\, have felt: A realization that achievement is not gratifying to the whole person.&nbsp\; Further\, the main character is battling a one of life&rsquo\;s most difficult decisions:&nbsp\;&nbsp\; &ldquo\;It was something that I knew to be wrong\, yet my heart couldn&rsquo\;t be more certain that it was right.&rdquo\;Readers are engaged\, connecting with the emotion-stirring\, life-like situations and characters\, and will be inspired and empowered as the story unfolds.&nbsp\; Experiences with a &ldquo\;witch\,&rdquo\; challenges with family\, career and community\, as well as learning opportunities with counselors\, coaches and people from every day life contribute to the life-lessons of the story. As in his mentoring\, with this introspective novel Ray teaches his concepts of The Four Keys and The Master Key. Concepts which can unshackle individuals\, relationships and groups\, enabling Permission to Live.</span></span></p>\n
LOCATION:The Taylor Health Sciences Auditorium 1526 E. Medical Center Dr.\, St George Take St George Blvd east off I-15 and turn south onto River Road to Medical Center Drive which is the road between Lowes and Intermountain Hospital. Turn left onto Medical Center Drive. The Taylor Building is on the right just past the Jubilee House. There's tons of open parking.
UID:e.1117.6453
SEQUENCE:3
DTSTAMP:20260420T134304Z
URL:https://business.stgeorgechamber.com/events/details/chamber-training-series-featuring-ray-buttars-permission-to-live-06-10-2015-6453
END:VEVENT

END:VCALENDAR
