BEGIN:VCALENDAR
VERSION:2.0
PRODID:-//ChamberMaster//Event Calendar 2.0//EN
METHOD:PUBLISH
X-PUBLISHED-TTL:P3D
REFRESH-INTERVAL:P3D
CALSCALE:GREGORIAN
BEGIN:VEVENT
DTSTART:20140514T173000Z
DTEND:20140514T190000Z
X-MICROSOFT-CDO-ALLDAYEVENT:FALSE
SUMMARY:Chamber Training Series featuring Melinda Yeaman: YELP Yourself
DESCRIPTION:YELP YOURSELF \n\nHow To Create An Army of Customer Evangelists To Promote Your Business\n\n \n\nWouldn't you love to know what's going through your customer's head right after they leave your place of business? Will they return? Will they enthusiastically drive others to your business? This is information that marketers pay dearly for and with the right knowledge\, you too can tap into your customer base (for free) and create raving fans.  It's called YELP.com and it's one of the hottest social media and business review platforms on the web. \n\n \n\nWith over 72 million users\, Yelp is key to marketing your business locally.  Ignorance is definitely not bliss and when you take charge of your Yelp presence and weave it into your online marketing strategy\, your customers will be the strongest sales and marketing team you could ever have. So help us Yelp you by digging into creative strategies that will transform your business into a customer magnet.\n\n \n\nKey Takeaways:\n\n\n	\n	How Yelp works\, important pros and cons to know\, and how Yelp fits in to your marketing strategy\n	\n	\n	How to build positive reviews and what to do with negative reviews\n	\n	\n	How to connect to your customer and turn them into your best marketing asset \n	\n	\n	Strategies to integrating Yelp into your business process to create a snowball effect\n	\n\n\n \n\nTraining Preparation:  If you don't already have a Yelp account go to www.yelp.com and register your business for free.  Then\, bring your fully charged laptop and/or smart phone to the event for some practical hands on demonstrations and training.\n\n\n\nMelinda Yeaman is an online marketing veteran of 15 years who unplugged from her corporate career path to become an entrepreneur and to live an authentic\, passionate life. Her experience in graphic & web design\, e-commerce\, social and tech enables her to fuel success in her own brands as well as those of her clients and associates. As an Outlier herself\, Melinda co-hosts the Outlier On Air podcast\, and assists in the growth of Outlier Labs\, Magazine and Conferences to provide a springboard for startups. Melinda's supportive husband and two beautiful children are her driving force. Adventure\, travel\, art\, culture and diversity add wind to her sails. \n\n\n\nFrom our lunch sponsor:\n\n\n\nPut some sizzle into your summer with the BRC's upcoming June events!\n\n\n	June 6th - Concept to Company Crowdpitch. Eight finalists will pitch their ideas first to judges and then to the crowd (you)\, 11:30 a.m. at the Holland Center Zion Room at Dixie State University. It's American Idol and Shark Tank for everyone. Lunchy fingerfood\, too.\n	June 12th\, 13th. Advanced Social Media Boot Camp. Not for beginners\, this training gets down and intensive for a limited number of engaged participants. Learn from Aly Brooks\, the genius behind Squatty Potty\, and Bosch phenomenal online campaigns. Contact jgoodspeed for info\, jgoodspeed@dixie.edu. www.brcdixie.com
X-ALT-DESC;FMTTYPE=text/html:<p><span style="font-size:14px\;"><span style="font-family:arial\;"><strong>YELP YOURSELF </strong><br />\nHow To Create An Army of Customer Evangelists To Promote Your Business<br />\n&nbsp\;<br />\nWouldn&#39\;t you love to know what&#39\;s going through your customer&#39\;s head right after they leave your place of business? Will they return? Will they enthusiastically drive others to your business? This is information that marketers pay dearly for and with the right knowledge\, you too can tap into your customer base (for free) and create raving fans.&nbsp\; It&#39\;s called YELP.com and it&#39\;s one of the hottest social media and business review platforms on the web.&nbsp\;<br />\n&nbsp\;<br />\nWith over 72 million users\, Yelp is key to marketing your business locally. &nbsp\;Ignorance is definitely not bliss and when you take charge of your Yelp presence and weave it into your online marketing strategy\, your customers will be the strongest sales and marketing team you could ever have. So help us Yelp you by digging into creative strategies that will transform your business into a customer magnet.<br />\n&nbsp\;<br />\n<strong>Key Takeaways:</strong></span></span></p>\n\n<ol>\n	<li align="justify" style="text-align:justify\;">\n	<p><span style="font-size:14px\;"><span style="font-family:arial\;">How Yelp works\, important pros and cons to know\, and how Yelp fits in to your marketing strategy</span></span></p>\n	</li>\n	<li align="justify" style="text-align:justify\;">\n	<p><span style="font-size:14px\;"><span style="font-family:arial\;">How to build positive reviews and what to do with negative reviews</span></span></p>\n	</li>\n	<li align="justify" style="text-align:justify\;">\n	<p><span style="font-size:14px\;"><span style="font-family:arial\;">How to connect to your customer and turn them into your best marketing asset&nbsp\;</span></span></p>\n	</li>\n	<li align="justify" style="text-align:justify\;">\n	<p><span style="font-size:14px\;"><span style="font-family:arial\;">Strategies to integrating Yelp into your business process to create a snowball effect</span></span></p>\n	</li>\n</ol>\n\n<p><span style="font-size:14px\;"><span style="font-family:arial\;">&nbsp\;<br />\n<strong>Training Preparation:</strong>&nbsp\; If you don&#39\;t already have a Yelp account go to <a href="http://www.yelp.com" shape="rect">www.yelp.com</a> and register your business for free.&nbsp\; Then\, bring your fully charged laptop and/or smart phone to the event for some practical hands on demonstrations and training.<br />\n<br />\nMelinda Yeaman is an online marketing veteran of 15 years who unplugged from her corporate career path to become an entrepreneur and to live an authentic\, passionate life. Her experience in graphic &amp\; web design\, e-commerce\, social and tech enables her to fuel success in her own brands as well as those of her clients and associates. As an Outlier herself\, Melinda co-hosts the Outlier On Air podcast\, and assists in the growth of Outlier Labs\, Magazine and Conferences to provide a springboard for startups. Melinda&#39\;s supportive husband and two beautiful children are her driving force. Adventure\, travel\, art\, culture and diversity add wind to her sails.&#8203\;<br />\n<br />\n<span style="font-size:16px\;"><strong>From our lunch sponsor:</strong></span></span></span><br />\n<br />\nPut some sizzle into your summer with the BRC&rsquo\;s upcoming June events!</p>\n\n<ol>\n	<li>June 6<sup>th</sup> - Concept to Company Crowdpitch. Eight finalists will pitch their ideas first to judges and then to the crowd (you)\, 11:30 a.m. at the Holland Center Zion Room at Dixie State University. It&rsquo\;s American Idol and Shark Tank for everyone. Lunchy fingerfood\, too.</li>\n	<li>June 12<sup>th</sup>\, 13<sup>th</sup>. Advanced Social Media Boot Camp. Not for beginners\, this training gets down and intensive for a limited number of engaged participants. Learn from Aly Brooks\, the genius behind Squatty Potty\, and Bosch phenomenal online campaigns. Contact jgoodspeed for info\, <a href="mailto:jgoodspeed@dixie.edu">jgoodspeed@dixie.edu</a>. <a href="http://www.brcdixie.com/">www.brcdixie.com</a></li>\n</ol>\n
LOCATION:The Taylor Health Sciences Auditorium 1526 E. Medical Center Dr.\, St George Take St George Blvd east off I-15 and turn south onto River Road to Medical Center Drive which is the road between Lowes and Intermountain Hospital. Turn left onto Medical Center Drive. The Taylor Building is on the right just past the Jubilee House. There's tons of open parking.
UID:e.1117.5220
SEQUENCE:3
DTSTAMP:20260421T100503Z
URL:https://business.stgeorgechamber.com/events/details/chamber-training-series-featuring-melinda-yeaman-yelp-yourself-05-14-2014-5220
END:VEVENT

END:VCALENDAR
