BEGIN:VCALENDAR
VERSION:2.0
PRODID:-//ChamberMaster//Event Calendar 2.0//EN
METHOD:PUBLISH
X-PUBLISHED-TTL:P3D
REFRESH-INTERVAL:P3D
CALSCALE:GREGORIAN
BEGIN:VEVENT
DTSTART:20141112T183000Z
DTEND:20141112T200000Z
X-MICROSOFT-CDO-ALLDAYEVENT:FALSE
SUMMARY:Chamber Training Series featuring Melinda Yeaman
DESCRIPTION:SOCIAL MEDIA WORKSHOP with Melinda Yeaman\n\nFeeling overwhelmed about handling your social media on your own?\n\nLooking to be more strategic when overseeing your social media manager?\n\nReady to intelligently outsource your social media?\n\n \n\nThis hour with Melinda Yeaman will fly by as she covers the basics of how to choose the right social media channels for you and how to plan an entire month of social media activity. This is an interactive workshop where you will develop your editorial calendar together as a group\, which is your action plan going forward. Leave empowered to tackle your social media plan either on your own or as a savvy employer. And if you choose to outsource altogether\, hire with confidence. For maximum benefit\, be informed about your current social media activity and questions when you arrive. Come equipped with a pen and your main 6 month business goal. Let's do this!\n\n\n\nMelinda Yeaman is an online marketing veteran of 15 years who unplugged from her corporate career path to become an entrepreneur and to live an authentic\, passionate life. Her experience in graphic & web design\, e-commerce\, social and tech enables her to fuel success in her own brands as well as those of her clients and associates. As an Outlier herself\, Melinda co-hosts the Outlier On Air podcast\, and assists in the growth of Outlier Labs\, Magazine and Conferences to provide a springboard for startups. Melinda's supportive husband and two beautiful children are her driving force. Adventure\, travel\, art\, culture and diversity add wind to her sails.
X-ALT-DESC;FMTTYPE=text/html:<p style="text-align:justify\;"><strong><span style="color:#373737\;"><span style="font-family:helvetica\,sans-serif\;"><span style="font-size:10.5pt\;">SOCIAL MEDIA WORKSHOP with Melinda Yeaman</span></span></span></strong><br />\n<span style="color:#373737\;"><span style="font-family:helvetica\,sans-serif\;"><span style="font-size:10.5pt\;">Feeling overwhelmed about handling your social media on your own?</span></span></span><br />\n<span style="color:#373737\;"><span style="font-family:helvetica\,sans-serif\;"><span style="font-size:10.5pt\;">Looking to be more strategic when overseeing your social media manager?</span></span></span><br />\n<span style="color:#373737\;"><span style="font-family:helvetica\,sans-serif\;"><span style="font-size:10.5pt\;">Ready to intelligently&nbsp\;outsource your social media?</span></span></span><br />\n&nbsp\;<br />\n<span style="color:#373737\;"><span style="font-family:helvetica\,sans-serif\;"><span style="font-size:10.5pt\;">This hour with Melinda Yeaman will fly by as she covers the basics of how to choose the right social media channels for you and how to plan an entire month of social media activity. This is an interactive workshop where you will develop your editorial calendar together as a group\, which is your action plan going forward. Leave empowered to tackle your social media plan either on your own or as a savvy employer. And if you choose to outsource altogether\, hire with confidence. For maximum benefit\, be informed about&nbsp\;your current social media activity and questions when you arrive. Come equipped with a pen and your main 6 month business goal. Let&#39\;s do this!</span></span></span><br />\n<br />\n<span style="font-family: arial\; font-size: 14px\; line-height: 1.6\;">Melinda </span>Yeaman<span style="font-family: arial\; font-size: 14px\; line-height: 1.6\;"> is an online marketing veteran of 15 years who unplugged from her corporate career path to become an entrepreneur and to live an authentic\, passionate life. Her experience in graphic &amp\; web design\, e-commerce\, social and tech enables her to fuel success in her own brands as well as those of her clients and associates. As an Outlier herself\, Melinda co-hosts the Outlier On Air podcast\, and assists in the growth of Outlier Labs\, Magazine and Conferences to provide a springboard for startups. Melinda&#39\;s supportive husband and two beautiful children are her driving force. Adventure\, travel\, art\, culture and diversity add wind to her sails.</span></p>\n
LOCATION:The Taylor Health Sciences Auditorium 1526 E. Medical Center Dr.\, St George Take St George Blvd east off I-15 and turn south onto River Road to Medical Center Drive which is the road between Lowes and Intermountain Hospital. Turn left onto Medical Center Drive. The Taylor Building is on the right just past the Jubilee House. There's tons of open parking.
UID:e.1117.6096
SEQUENCE:3
DTSTAMP:20260421T025826Z
URL:https://business.stgeorgechamber.com/events/details/chamber-training-series-featuring-melinda-yeaman-11-12-2014-6096
END:VEVENT

END:VCALENDAR
