BEGIN:VCALENDAR
VERSION:2.0
PRODID:-//ChamberMaster//Event Calendar 2.0//EN
METHOD:PUBLISH
X-PUBLISHED-TTL:P3D
REFRESH-INTERVAL:P3D
CALSCALE:GREGORIAN
BEGIN:VEVENT
DTSTART:20150909T173000Z
DTEND:20150909T190000Z
X-MICROSOFT-CDO-ALLDAYEVENT:FALSE
SUMMARY:Chamber Training Series featuring Kip Kint: "How to Succeed Through Commitment & Accountability"
DESCRIPTION:"You Can If You Will: How to Succeed Through Commitment & Accountability"\n\nIf you believe your vision for success is realistic\, but for whatever reason you still haven't quite achieved it\, then we have the workshop for you. Kip Kint is a Success Coach\, Trainer\, Speaker\, and Author of "You Can If You Will: How to Achieve Success Through Commitment & Accountability." If that title gets you excited\, especially the part about Commitment & Accountability\, then this workshop is for you. If that title makes you nervous\, then this workshop is especially for you. \n\nKip is an expert on commitment and accountability\, and how\, when done correctly\, they lead to the success you desire. 90% of the people who set a goal have every skill and ability they need to reach it. People are generally more realistic than we often give them credit for. So\, why is it that these capable people\, with reasonable goals\, still fall short more than 80% of the time? The answer? Will... Commitment... Accountability... all missing (or in too short supply). Let Kip help you make the paradigm shift from dreading these words to embracing them\, and all the success that comes with them.\n\n\n\nAbout Kip\n\nKip Kint has more than 20 years of business\, sales\, and leadership experience\, having worked in leadership positions for large\, successful companies such as WordPerfect\, Novell\, FranklinCovey and BNI\, as well as small companies like Mission Ignition and ContactPoint.  He has been an Executive Trainer and Success Coach for over 18 years. Kip is a Certified FranklinCovey Coach\, with extensive experience as a Business Coach\, Sales Consultant\, Trainer\, Keynote Speaker\, and Business Referral Networking Consultant.  Clients of note have come from prominent organizations such as the United States Department of Justice\, The United Nations\, Allied Waste/Republic Services\, The New York Stock Exchange\, Disney\, Microsoft\, BNI and many others.\n\n\n\nAs a Success Coach\, Kip coaches entrepreneurs\, business owners\, and executives on establishing goals and objectives for each area of life\, including both business and personal goals\, and then hold them accountable for achieving those goals. He coaches for professional success and personal excellence\, and help his clients understand the importance of maintaining balance between them.  Anyone can achieve a measure of success in the short term by simply sacrificing balance. But can success be maintained throughout life without appropriate balance? Based on his experience\, it cannot.\n\n\n\nBalance is the very key to lasting\, sustainable success in all areas of life.  Kip helps his clients achieve success WITH balance\, not at the expense of it. That means being effective in every facet of life including:\n\n\n\nBusiness/Career\n\nFinancial\n\nHealth\n\nFriends & Family\n\nMarriage\n\nPersonal Growth\n\nFun & Recreation\n\nOrganization\n\n\n\nWhile most of his clients begin with an emphasis on business\, they soon discover that improving in other areas where they are less effective leads to even greater success with their primary business and financial goals.
X-ALT-DESC;FMTTYPE=text/html:<p style="text-align: center\;"><span style="font-size:14px\;"><span style="font-family:arial\;"><span style="color:black\;">&quot\;You Can If You Will: How to Succeed&nbsp\;</span><span style="color:black\;">Through Commitment &amp\; Accountability&quot\;</span></span></span></p>\n\n<p><span style="font-size:14px\;"><span style="font-family:arial\;"><span style="color:black\;">If you believe your vision for success is realistic\, but for whatever reason you still haven&#39\;t quite achieved it\, then we have the workshop for you. Kip Kint is a Success Coach\, Trainer\, Speaker\, and Author of &quot\;You Can If You Will: How to Achieve Success Through Commitment &amp\; Accountability.&quot\; If that title gets you excited\, especially the part about Commitment &amp\; Accountability\, then this workshop is for you. If that title makes you nervous\, then this workshop is especially for you. </span><br />\n<span style="color:black\;">Kip is an expert on commitment and accountability\, and how\, when done correctly\, they lead to the success you desire. 90% of the people who set a goal have every skill and ability they need to reach it. People are generally more realistic than we often give them credit for. So\, why is it that these capable people\, with reasonable goals\, still fall short more than 80% of the time? The answer? Will... Commitment... Accountability... all missing (or in too short supply). Let Kip help you make the paradigm shift from dreading these words to embracing them\, and all the success that comes with them.</span><br />\n<br />\n<span style="color:#000000\;"><span style="line-height: 20px\;"><u><strong>About Kip</strong></u><br />\nKip Kint has more than 20 years of business\, sales\, and leadership experience\, having worked in leadership positions for large\, successful companies such as WordPerfect\, Novell\, FranklinCovey and BNI\, as well as small companies like Mission Ignition and ContactPoint. &nbsp\;He has&nbsp\;been an Executive Trainer and Success Coach for over 18 years. Kip is a Certified FranklinCovey Coach\, with extensive experience as a Business Coach\, Sales Consultant\, Trainer\, Keynote Speaker\, and Business Referral Networking Consultant.&nbsp\; Clients of note have come from prominent organizations such as the United States Department of Justice\, The United Nations\, Allied Waste/Republic Services\, The New York Stock Exchange\, Disney\, Microsoft\, BNI and many others.</span><br style="color: rgb(116\, 116\, 116)\; font-family: 'PT Sans'\, Arial\, Helvetica\, sans-serif\; line-height: 20px\;" />\n<br style="color: rgb(116\, 116\, 116)\; font-family: 'PT Sans'\, Arial\, Helvetica\, sans-serif\; line-height: 20px\;" />\n<span style="line-height: 20px\;">As a Success Coach\, Kip coaches entrepreneurs\, business owners\, and executives on establishing goals and objectives for each area of life\, including both business and personal goals\, and then hold them accountable for achieving those goals. He coaches for professional success and personal excellence\, and help his clients understand the importance of maintaining balance between them.&nbsp\; Anyone can achieve a measure of success in the short term by simply sacrificing balance. But can success be maintained throughout life without appropriate balance? Based on his experience\, it cannot.</span><br style="color: rgb(116\, 116\, 116)\; font-family: 'PT Sans'\, Arial\, Helvetica\, sans-serif\; line-height: 20px\;" />\n<br style="color: rgb(116\, 116\, 116)\; font-family: 'PT Sans'\, Arial\, Helvetica\, sans-serif\; line-height: 20px\;" />\n<span style="line-height: 20px\;">Balance is the very key to lasting\, sustainable success in all areas of life. &nbsp\;Kip helps his clients achieve success WITH balance\, not at the expense of it. That means being effective in every facet of life including:</span><br style="color: rgb(116\, 116\, 116)\; font-family: 'PT Sans'\, Arial\, Helvetica\, sans-serif\; line-height: 20px\;" />\n<br style="color: rgb(116\, 116\, 116)\; font-family: 'PT Sans'\, Arial\, Helvetica\, sans-serif\; line-height: 20px\;" />\n<strong style="color: rgb(116\, 116\, 116)\; font-family: 'PT Sans'\, Arial\, Helvetica\, sans-serif\; line-height: 20px\;">Business/Career<br />\nFinancial<br />\nHealth<br />\nFriends &amp\; Family<br />\nMarriage<br />\nPersonal Growth<br />\nFun &amp\; Recreation<br />\nOrganization</strong><br style="color: rgb(116\, 116\, 116)\; font-family: 'PT Sans'\, Arial\, Helvetica\, sans-serif\; line-height: 20px\;" />\n<br style="color: rgb(116\, 116\, 116)\; font-family: 'PT Sans'\, Arial\, Helvetica\, sans-serif\; line-height: 20px\;" />\n<span style="line-height: 20px\;">While most of his clients begin with an emphasis on business\, they soon discover that improving in other areas where they are less effective leads to even greater success with their primary business and financial goals.</span></span></span></span></p>\n
LOCATION:The Taylor Health Sciences Auditorium 1526 E. Medical Center Dr.\, St George Take St George Blvd east off I-15 and turn south onto River Road to Medical Center Drive which is the road between Lowes and Intermountain Hospital. Turn left onto Medical Center Drive. The Taylor Building is on the right just past the Jubilee House. There's tons of open parking.
UID:e.1117.6990
SEQUENCE:3
DTSTAMP:20260420T084822Z
URL:https://business.stgeorgechamber.com/events/details/chamber-training-series-featuring-kip-kint-how-to-succeed-through-commitment-accountability-09-09-2015-6990
END:VEVENT

END:VCALENDAR
