BEGIN:VCALENDAR
VERSION:2.0
PRODID:-//ChamberMaster//Event Calendar 2.0//EN
METHOD:PUBLISH
X-PUBLISHED-TTL:P3D
REFRESH-INTERVAL:P3D
CALSCALE:GREGORIAN
BEGIN:VEVENT
DTSTART:20140813T173000Z
DTEND:20140813T190000Z
X-MICROSOFT-CDO-ALLDAYEVENT:FALSE
SUMMARY:Chamber Training Series featuring Kip Kint
DESCRIPTION:Top 5 Ways to Tick-Off Customers and Make Sure They Don't Come Back\n\nYou are incredibly busy. There's hardly enough time in the day as it is. In order to decrease the load and the associated stress that comes with it\, your goal is to get less business\, right? To tick-off your potential customers so thoroughly that they never want to do business with you. Ever. You want to make them feel dumb when they call you or come in to see you. You want to make them feel like they are wasting your time. In order to avoid "busy-ness" your have to decrease business\, so you want your potential customers to hang up the phone and say 'Man\, I will NEVER buy from those people.'\n\n\n\nThose are your goals right? Well\, here are five ways to accomplish just that.
X-ALT-DESC;FMTTYPE=text/html:<p><span style="font-size:20px\;"><span style="font-family:arial\;"><strong>Top 5 Ways to Tick-Off Customers and Make Sure They Don&rsquo\;t Come Back</strong></span></span></p>\n\n<p><span style="font-family:times\;"><span style="font-size:10.0pt\;"><span style="font-size:14px\;"><span style="font-family:arial\;">You are incredibly busy. There&rsquo\;s hardly enough time in the day as it is. In order to decrease the load and the associated stress that comes with it\, your goal is to get less business\, right? To tick-off your potential customers so thoroughly that they never want to do business with you. Ever. You want to make them feel dumb when they call you or come in to see you. You want to make them feel like they are wasting your time. In order to avoid &ldquo\;busy-ness&rdquo\; your have to decrease business\, so you want your potential customers to hang up the phone and say &#39\;Man\, I will NEVER buy from those people.&#39\;</span></span></span></span><br />\n<br />\n<span style="font-size:14px\;"><span style="font-family:arial\;">Those are your goals right? Well\, here are five ways to accomplish just that.</span></span></p>\n
LOCATION:The Taylor Health Sciences Auditorium 1526 E. Medical Center Dr.\, St George Take St George Blvd east off I-15 and turn south onto River Road to Medical Center Drive which is the road between Lowes and Intermountain Hospital. Turn left onto Medical Center Drive. The Taylor Building is on the right just past the Jubilee House. There's tons of open parking.
UID:e.1117.5326
SEQUENCE:3
DTSTAMP:20260421T055147Z
URL:https://business.stgeorgechamber.com/events/details/chamber-training-series-featuring-kip-kint-08-13-2014-5326
END:VEVENT

END:VCALENDAR
