BEGIN:VCALENDAR
VERSION:2.0
PRODID:-//ChamberMaster//Event Calendar 2.0//EN
METHOD:PUBLISH
X-PUBLISHED-TTL:P3D
REFRESH-INTERVAL:P3D
CALSCALE:GREGORIAN
BEGIN:VEVENT
DTSTART:20141008T173000Z
DTEND:20141008T190000Z
X-MICROSOFT-CDO-ALLDAYEVENT:FALSE
SUMMARY:Chamber Training Series featuring Jennifer Armitstead
DESCRIPTION:Mentoring Women in the Workplace: What Every Man (and woman) Should Know"\n\nIn case you hadn't noticed\, men and women are wired differently... Anyone who has been married for over 10 years can definitely testify to that. So\, what happens when we put men and women together in the workplace?\n\nWomen and men both add a different perspective\, which is a great way to grow a team. With the differences comes challenges and opportunities\n\nAt the Wednesday\, October 8\, 2014 lunch\, Jennifer Armitstead\, returns to train our Chamber about mentoring women in the workplace. This information is ideal for companies who have a blended workforce and want to know how to better develop the careers of their employees. This information is important for both men and women to know. Here's a little tip: This isn't just about women...\n\nCome learn about how to develop the careers of your most important part of your company\, your employees. If you're an employee\, this is helpful information for you to get the right help from your manager.\n\nBring your boss! Bring your staff! Come learn actionable ways to make a difference in the development of careers in your company! \n\nJennifer Armitstead has over 16 years as a career strategist. She is best known for helping people take their career to the next level by determining their personal brand and how to effectively network in-person and online. Jennifer can be found online on Twitter (@CareerCoachJen) and her website:www.MovingForwardSolutions.com.
X-ALT-DESC;FMTTYPE=text/html:<p style="color: rgb(0\, 0\, 0)\; font-family: Verdana\, Geneva\, Arial\, Helvetica\, sans-serif\; font-size: 15px\; line-height: normal\; text-align: center\;"><span style="font-size:14px\;"><span style="font-family:arial\;"><strong>Mentoring Women in the Workplace: What Every Man (and woman) Should Know&quot\;</strong></span></span></p>\n\n<p style="color: rgb(0\, 0\, 0)\; font-family: Verdana\, Geneva\, Arial\, Helvetica\, sans-serif\; font-size: 15px\; line-height: normal\;"><span style="font-family: arial\; font-size: 14px\;">In case you hadn&#39\;t noticed\, men and women are wired differently... Anyone who has been married for over 10 years can definitely testify to that. So\, what happens when we put men and women together in the workplace?</span></p>\n\n<p align="left" style="color: rgb(0\, 0\, 0)\; font-family: Verdana\, Geneva\, Arial\, Helvetica\, sans-serif\; font-size: 15px\; line-height: normal\;"><span style="font-family: arial\; font-size: 14px\;">Women and men both add a different perspective\, which is a great way to grow a team. With the differences comes challenges and opportunities</span></p>\n\n<p align="left" style="color: rgb(0\, 0\, 0)\; font-family: Verdana\, Geneva\, Arial\, Helvetica\, sans-serif\; font-size: 15px\; line-height: normal\;"><span style="font-family: arial\; font-size: 14px\;">At the Wednesday\, October 8\, 2014 lunch\, Jennifer </span>Armitstead<span style="font-family: arial\; font-size: 14px\;">\, returns to train our Chamber about mentoring women in the workplace. This information is ideal for companies who have a blended workforce and want to know how to better develop the careers of their employees. This information is important for both men and women to know. Here&#39\;s a little tip: This isn&#39\;t just about women...</span></p>\n\n<p align="left" style="color: rgb(0\, 0\, 0)\; font-family: Verdana\, Geneva\, Arial\, Helvetica\, sans-serif\; font-size: 15px\; line-height: normal\;"><span style="font-family: arial\; font-size: 14px\;">Come learn about how to develop the careers of your most important part of your company\, your employees. If you&#39\;re an employee\, this is helpful information for you to get the right help from your manager.</span></p>\n\n<p align="left" style="color: rgb(0\, 0\, 0)\; font-family: Verdana\, Geneva\, Arial\, Helvetica\, sans-serif\; font-size: 15px\; line-height: normal\;"><span style="font-family: arial\; font-size: 14px\;">Bring your boss! Bring your staff! Come learn actionable ways to make a difference in the development of careers in your company!&nbsp\;</span></p>\n\n<p align="left" style="color: rgb(0\, 0\, 0)\; font-family: Verdana\, Geneva\, Arial\, Helvetica\, sans-serif\; font-size: 15px\; line-height: normal\;"><strong style="font-family: arial\; font-size: 14px\;">Jennifer Armitstead</strong><span style="font-family: arial\; font-size: 14px\;">&nbsp\;has over 16 years as a career strategist. She is best known for helping people take their career to the next level by determining their personal brand and how to effectively network in-person and online. Jennifer can be found online on Twitter (</span>@CareerCoachJen<span style="font-family: arial\; font-size: 14px\;">) and her website:</span><a href="http://r20.rs6.net/tn.jsp?e=001bAboY-8jAwn26wgKsBeHCcLy8pP6NITh-OySOcI_ZhVsq4O7u691rzOCZdWFSxeEo737N4b7oE__AD1qzZQvX8bPZ-Jzspo-VtfRM_4Q1WzNaxJ-GNE1nSLPoS2s6Jvg" linktype="1" shape="rect" style="font-family: arial\; font-size: 14px\; color: blue\; text-decoration: none\;" target="_blank" track="on">www.MovingForwardSolutions.com</a><span style="font-family: arial\; font-size: 14px\;">.</span></p>\n
LOCATION:The Taylor Health Sciences Auditorium 1526 E. Medical Center Dr.\, St George Take St George Blvd east off I-15 and turn south onto River Road to Medical Center Drive which is the road between Lowes and Intermountain Hospital. Turn left onto Medical Center Drive. The Taylor Building is on the right just past the Jubilee House. There's tons of open parking.
UID:e.1117.6094
SEQUENCE:3
DTSTAMP:20260421T025635Z
URL:https://business.stgeorgechamber.com/events/details/chamber-training-series-featuring-jennifer-armitstead-10-08-2014-6094
END:VEVENT

END:VCALENDAR
