BEGIN:VCALENDAR
VERSION:2.0
PRODID:-//ChamberMaster//Event Calendar 2.0//EN
METHOD:PUBLISH
X-PUBLISHED-TTL:P3D
REFRESH-INTERVAL:P3D
CALSCALE:GREGORIAN
BEGIN:VEVENT
DTSTART:20140611T174500Z
DTEND:20140611T190000Z
X-MICROSOFT-CDO-ALLDAYEVENT:FALSE
SUMMARY:Chamber Training Series featuring Jeff Sherman
DESCRIPTION:LinkedIn Expert\n\n\n\nEntrpreneur strategist\, coach\, and thought leader.\n\n\n\nFacilitator\, School of Life Foundation\n\nChair\, Leadership Academy Board\n\nDixie Tech (DSU) Steering Committee Member
X-ALT-DESC;FMTTYPE=text/html:LinkedIn Expert<br />\n<br />\nEntrpreneur strategist\, coach\, and thought leader.<br />\n<br />\nFacilitator\, School of Life Foundation<br />\nChair\, Leadership Academy Board<br />\nDixie Tech (DSU) Steering Committee Member
LOCATION:The Taylor Health Sciences Auditorium 1526 E. Medical Center Dr.\, St George Take St George Blvd east off I-15 and turn south onto River Road to Medical Center Drive which is the road between Lowes and Intermountain Hospital. Turn left onto Medical Center Drive. The Taylor Building is on the right just past the Jubilee House. There's tons of open parking.
UID:e.1117.5289
SEQUENCE:3
DTSTAMP:20260423T085022Z
URL:https://business.stgeorgechamber.com/events/details/chamber-training-series-featuring-jeff-sherman-06-11-2014-5289
END:VEVENT

END:VCALENDAR
