BEGIN:VCALENDAR
VERSION:2.0
PRODID:-//ChamberMaster//Event Calendar 2.0//EN
METHOD:PUBLISH
X-PUBLISHED-TTL:P3D
REFRESH-INTERVAL:P3D
CALSCALE:GREGORIAN
BEGIN:VEVENT
DTSTART:20140212T184500Z
DTEND:20140212T200000Z
X-MICROSOFT-CDO-ALLDAYEVENT:FALSE
SUMMARY:Chamber Training Series "Cracking the Leadership Code"
DESCRIPTION:Running a business can be challenging and it requires a business owner to wear many hats but none so daunting as that of a leader and visionary.  Business can fail or excel based on the leadership abilities of it's CEO.  Whether you run a small business or a larger corporate organization your ability to lead is perhaps the single most important capability that will lead to your success. \n\n	 \n\n	Jeff Sherman is a leadership training expert.  February 12th he's going to lead a training exercise that will help you experience five critical leadership skills that you can start applying right away.  Becoming a stronger leader will bring a whole new level of satisfaction to your job.  Come and learn for yourself how much more effective you can be when you start practicing these five critical characteristics
X-ALT-DESC;FMTTYPE=text/html:<p>\n	<span style="font-size:14px\;"><span style="font-family:arial\;">Running a business can be challenging and it requires a business owner to wear many hats but none so daunting as that of a leader and visionary.&nbsp\; Business can fail or excel based on the leadership abilities of it&rsquo\;s CEO.&nbsp\; Whether you run a small business or a larger corporate organization your ability to lead is perhaps the single most important capability that will lead to your success.&nbsp\;<br />\n	&nbsp\;<br />\n	Jeff Sherman is a leadership training expert.&nbsp\; February 12<sup>th</sup> he&rsquo\;s going to lead a training exercise that will help you experience five critical leadership skills that you can start applying right away.&nbsp\; Becoming a stronger leader will bring a whole new level of satisfaction to your job.&nbsp\; Come and learn for yourself how much more effective you can be when you start practicing these five critical characteristics&hellip\;</span></span></p>\n
LOCATION:The Taylor Health Sciences Auditorium 1526 E. Medical Center Dr.\, St George Take St George Blvd east off I-15 and turn south onto River Road to Medical Center Drive which is the road between Lowes and Intermountain Hospital. Turn left onto Medical Center Drive. The Taylor Building is on the right just past the Jubilee House. There's tons of open parking.
UID:e.1117.5040
SEQUENCE:3
DTSTAMP:20260421T140850Z
URL:https://business.stgeorgechamber.com/events/details/chamber-training-series-cracking-the-leadership-code-02-12-2014-5040
END:VEVENT

END:VCALENDAR
