BEGIN:VCALENDAR
VERSION:2.0
PRODID:-//ChamberMaster//Event Calendar 2.0//EN
METHOD:PUBLISH
X-PUBLISHED-TTL:P3D
REFRESH-INTERVAL:P3D
CALSCALE:GREGORIAN
BEGIN:VEVENT
DTSTART:20160413T173000Z
DTEND:20160413T190000Z
X-MICROSOFT-CDO-ALLDAYEVENT:FALSE
SUMMARY:Chamber Training Series "A Culture of Customer First"
DESCRIPTION:This week's Chamber Training series features Richard Seaman who will train about:  "A Culture of Customer First" - Staying relevant and engaging with 4 generations of customers.\n\n\n\nRichard Seaman retired from the Federal Aviation Administration as Director of Leadership and Professional Development in 2012. After retirement\, he stood up Beacon Leadership Development and has assessed\, coached\, trained and evaluated for clients like BMW\, Apple\, SGE\, FAA\, DOE\, DOD and several large and small counties\, states and businesses. Richard is considered an expert in Leadership\, Management\, Customer Service\, and Adult Education.
X-ALT-DESC;FMTTYPE=text/html:<p style="color: rgb(0\, 0\, 0)\; font-family: Tahoma\, Arial\, sans-serif\; font-size: 13.3333px\; line-height: normal\;"><span style="font-size:14px\;"><span style="font-family:arial\;">This week&#39\;s Chamber Training series features Richard Seaman who will train about: &nbsp\;&quot\;A Culture of Customer First&quot\; - Staying relevant and engaging with 4 generations of customers.<br />\n<br />\nRichard Seaman retired from the Federal Aviation Administration as Director of Leadership and Professional Development in 2012. After retirement\, he stood up Beacon Leadership Development and has assessed\, coached\, trained and evaluated for clients like BMW\, Apple\, SGE\, FAA\, DOE\, DOD and several large and small counties\, states and businesses. Richard is considered an expert in Leadership\, Management\, Customer Service\, and Adult Education.</span></span><br />\n&nbsp\;</p>\n
LOCATION:The Taylor Health Sciences Auditorium 1526 E. Medical Center Dr.\, St George Take St George Blvd east off I-15 and turn south onto River Road to Medical Center Drive which is the road between Lowes and Intermountain Hospital. Turn left onto Medical Center Drive. The Taylor Building is on the right just past the Jubilee House. There's tons of open parking.
UID:e.1117.8533
SEQUENCE:3
DTSTAMP:20260419T220004Z
URL:https://business.stgeorgechamber.com/events/details/chamber-training-series-a-culture-of-customer-first-04-13-2016-8533
END:VEVENT

END:VCALENDAR
