BEGIN:VCALENDAR
VERSION:2.0
PRODID:-//ChamberMaster//Event Calendar 2.0//EN
METHOD:PUBLISH
X-PUBLISHED-TTL:P3D
REFRESH-INTERVAL:P3D
CALSCALE:GREGORIAN
BEGIN:VEVENT
DTSTART:20151209T183000Z
DTEND:20151209T200000Z
X-MICROSOFT-CDO-ALLDAYEVENT:FALSE
SUMMARY:Chamber Training Series
DESCRIPTION:In this month's Chamber Training\, Jason Zickerman\, CEO and President of The Alternative Board (TAB)\, will take attendees through some of the most important principles utilized by leading businesses. Topics include:\n\n \n\n\n	How to differentiate your business in an ever-changing business landscape\n	How to be different\, in a good way\, that people will retell your story over and over again\n	Finding the time to work on the premium activities for your business\n	Establishing the culture that you want in your business\n	Improving the performance of your business by utilizing key performance indicators\n	Exiting your business on your own terms\n\n\n \n\nJason Zickerman is the CEO and President of TAB\, The Alternative Board. Jason's innate ability to counsel and reshape businesses to positions of market leadership has enabled him to drive TAB's landmark success\, growing TAB to become one of the world's largest for-profit peer board and coaching services franchise organization serving business owners and industry visionaries alike. Jason is an internationally business growth advisor and expert where his expert counsel is consistently sought by the business media\, including: Business Week\, CNN\, CFO\, Forbes\, The Wall Street Journal\, The Globe and Mail\, Investor's Business Daily\, MSNBC\, The Associated Press\, Smart Money\, Fox Business News and Reuters.
X-ALT-DESC;FMTTYPE=text/html:<p><span style="color:#000000\;"><span style="font-family:arial\,sans-serif\;"><span style="font-size:13.0pt\;">In this month&#39\;s Chamber Training\, Jason Zickerman\, CEO and President of The Alternative Board (TAB)\, will take attendees through some of the most important principles utilized by leading businesses. Topics include:</span></span></span><br />\n&nbsp\;</p>\n\n<ul>\n	<li style="text-autospace:none\;"><span style="color:#000000\;"><span style="font-family:arial\,sans-serif\;"><span style="font-size:13.0pt\;">How to differentiate your business in an ever-changing business landscape</span></span></span></li>\n	<li style="text-autospace:none\;"><span style="color:#000000\;"><span style="font-family:arial\,sans-serif\;"><span style="font-size:13.0pt\;">How to be different\, in a good way\, that people will retell your story over and over again</span></span></span></li>\n	<li style="text-autospace:none\;"><span style="color:#000000\;"><span style="font-family:arial\,sans-serif\;"><span style="font-size:13.0pt\;">Finding the time to work on the premium activities for your business</span></span></span></li>\n	<li style="text-autospace:none\;"><span style="color:#000000\;"><span style="font-family:arial\,sans-serif\;"><span style="font-size:13.0pt\;">Establishing the culture that you want in your business</span></span></span></li>\n	<li style="text-autospace:none\;"><span style="color:#000000\;"><span style="font-family:arial\,sans-serif\;"><span style="font-size:13.0pt\;">Improving the performance of your business by utilizing key performance indicators</span></span></span></li>\n	<li style="text-autospace:none\;"><span style="color:#000000\;"><span style="font-family:arial\,sans-serif\;"><span style="font-size:13.0pt\;">Exiting your business on your own terms</span></span></span></li>\n</ul>\n\n<p><span style="color:#000000\;">&nbsp\;<br />\n<span style="font-family:arial\,sans-serif\;"><span style="font-size:13.0pt\;">Jason Zickerman is the CEO and President of TAB\, The Alternative Board.<strong><em><span style="font-family:arial\,sans-serif\;"><span style="font-size:13.0pt\;"> </span></span></em></strong>Jason&rsquo\;s innate ability to counsel and reshape businesses to positions of market leadership has enabled him to drive TAB&rsquo\;s landmark success\, growing TAB to become one of the world&rsquo\;s largest for-profit peer board and coaching services franchise organization serving business owners and industry visionaries alike. Jason is an internationally business growth advisor and expert where his expert counsel is consistently sought by the business media\, including: Business Week\, CNN\, CFO\, Forbes\, The Wall Street Journal\, The Globe and Mail\, Investor&rsquo\;s Business Daily\, MSNBC\, The Associated Press\, Smart Money\, Fox Business News and Reuters.</span></span></span></p>\n
LOCATION:The Taylor Health Sciences Auditorium 1526 E. Medical Center Dr.\, St George Take St George Blvd east off I-15 and turn south onto River Road to Medical Center Drive which is the road between Lowes and Intermountain Hospital. Turn left onto Medical Center Drive. The Taylor Building is on the right just past the Jubilee House. There's tons of open parking.
UID:e.1117.7288
SEQUENCE:3
DTSTAMP:20260420T050743Z
URL:https://business.stgeorgechamber.com/events/details/chamber-training-series-12-09-2015-7288
END:VEVENT

END:VCALENDAR
