BEGIN:VCALENDAR
VERSION:2.0
PRODID:-//ChamberMaster//Event Calendar 2.0//EN
METHOD:PUBLISH
X-PUBLISHED-TTL:P3D
REFRESH-INTERVAL:P3D
CALSCALE:GREGORIAN
BEGIN:VEVENT
DTSTART:20150211T183000Z
DTEND:20150211T200000Z
X-MICROSOFT-CDO-ALLDAYEVENT:FALSE
SUMMARY:Chamber Training Series
DESCRIPTION:Top Ten Employer Blind Spots\n\nTest your HR IQ!\n\nIn the world of compliance\, regulations and human resources\, what you don't know may hurt you   in the pocketbook.   \n\nLearn where your blind spots may be as they apply to your employment practices.  Find out how your human resource practices can affect your bottom line. Test your HR IQ and learn where your company may be at risk in this fun (yes fun!) and informative training session.\n\nDid you know that the average cost to defend a wrongful termination lawsuit is $75\,000 (just defend not settle or pay court fees).  The average for an FMLA violation is $80\,000.  And FLSA non-compliance (exempt/non-exempt) is $10\,000 per violation.            \n\nShanna Lelli has a passion for human resources.  With over two decades of executive level Human Resource experience Shanna has real-life\, hands-on experience in every aspect of the Human Resource function.  Most recently she was Vice President of Human Resources and Director of Operations\, Philippines at inContact a fast-growing public software company in Salt Lake City.  In 2012 Shanna moved to the St. George area to be near her grandchildren.  In 2014 she started an HR Consulting Business serving Southern Utah called Red Mountain HR Solutions.  At Red Mountain HR Solutions Shanna loves partnering with business owners and managers to assist them with their human resource needs.  She loves to make a difference and help them create a workplace that attracts and retains the best people through a competitive total compensation package\, skilled and trained managers and loyal and productive employees. \n\nYour business begins and ends with people!
X-ALT-DESC;FMTTYPE=text/html:<p style="text-align: center\;"><span style="font-size:14px\;"><span style="font-family:arial\;"><strong>Top Ten Employer Blind Spots</strong><br />\n<strong>Test your HR IQ!</strong><br />\n<strong>In the world of compliance\, regulations and human resources\, what you don&rsquo\;t know may hurt you &ndash\; in the pocketbook.&nbsp\;&nbsp\; </strong></span></span></p>\n\n<p><span style="font-size:14px\;"><span style="font-family:arial\;">Learn where your blind spots may be as they apply to your employment practices.&nbsp\; Find out how your human resource practices can affect your bottom line. Test your HR IQ and learn where your company may be at risk in this fun (yes fun!) and informative training session.<br />\nDid you know that the average cost to defend a wrongful termination lawsuit is $75\,000 (<u>just defend</u> not settle or pay court fees).&nbsp\; The average for an FMLA violation is $80\,000.&nbsp\; And FLSA non-compliance (exempt/non-exempt) is $10\,000 per violation. &nbsp\;&nbsp\;&nbsp\;&nbsp\;&nbsp\;&nbsp\;&nbsp\;&nbsp\;&nbsp\;&nbsp\;&nbsp\;<br />\nShanna Lelli has a passion for human resources.&nbsp\; With over two decades of executive level Human Resource experience Shanna has real-life\, hands-on experience in every aspect of the Human Resource function.&nbsp\; Most recently she was Vice President of Human Resources and Director of Operations\, Philippines at inContact a fast-growing public software company in Salt Lake City. &nbsp\;In 2012 Shanna moved to the St. George area to be near her grandchildren.&nbsp\; In 2014 she started an HR Consulting Business serving Southern Utah called Red Mountain HR Solutions.&nbsp\; At Red Mountain HR Solutions Shanna loves partnering with business owners and managers to assist them with their human resource needs.&nbsp\; She loves to make a difference and help them create a workplace that attracts and retains the best people through a competitive total compensation package\, skilled and trained managers and loyal and productive employees.&nbsp\;<br />\nYour business begins and ends with people!</span></span></p>\n
LOCATION:The Taylor Health Sciences Auditorium\, 1526 E. Medical Center Dr.\, St George Take St George Blvd east off I-15 and turn south onto River Road to Medical Center Drive which is the road between Lowes and Intermountain Hospital. Turn left onto Medical Center Drive. The Taylor Building is on the right just past the Jubilee House. There's tons of open parking.
UID:e.1117.6282
SEQUENCE:3
DTSTAMP:20260420T204040Z
URL:https://business.stgeorgechamber.com/events/details/chamber-training-series-02-11-2015-6282
END:VEVENT

END:VCALENDAR
