BEGIN:VCALENDAR
VERSION:2.0
PRODID:-//ChamberMaster//Event Calendar 2.0//EN
METHOD:PUBLISH
X-PUBLISHED-TTL:P3D
REFRESH-INTERVAL:P3D
CALSCALE:GREGORIAN
BEGIN:VEVENT
DTSTART:20250319T173000Z
DTEND:20250319T190000Z
X-MICROSOFT-CDO-ALLDAYEVENT:FALSE
SUMMARY:Chamber Power Lunch with President Randall\, University of Utah
DESCRIPTION:University of Utah President Taylor R. Randall will address the current state of higher education and the University of Utah's innovative solutions to modern challenges. The discussion will highlight the U's medical school expansion in St. George and similar initiatives designed to create meaningful statewide impact.\n\n\n\n \n\nPresident Randall's Bio:\n\nTaylor R. Randall was selected by the Utah Board of Higher Education as the 17th president of the University of Utah in August 2021. An award-winning educator\, innovative leader\, and champion of higher education\, he comes to the position with more than two decades of experience at the U\, serving as both dean of and an accounting professor in the David Eccles School of Business. He is the first alumnus since 1973 to serve as president.\n\nRandall began his tenure by declaring a bold vision to make the U a top 10 public university with unsurpassed societal impact. His strategy outlines three objectives: to inspire a new generation of students by revolutionizing the student experience\, innovate and generate discoveries that change the world\, and serve our state to impact the lives of all 3.5 million Utahns. The vision includes goals to increase enrollment to 40\,000 students and secure $1 billion in research funding annually.\n\nSince his inauguration in March of 2022\, Randall has achieved significant milestones on strategic initiatives:\n\n\n	Embarked on a statewide tour and signed a new compact with the state of Utah to rededicate the U's role as the state's flagship university\, pledging six commitments to lead\, partner\, educate\, research\, provide health care\, and serve\n	Jointly initiated the Great Salt Lake Strike Team with Utah State University to apply university research expertise to lake preservation efforts \n	Implemented campus transformation plans to add 5\,000 student housing beds and create a 24/7 college experience\n	Hired a Chief Experience Officer to help revolutionize the student experience\n	Launched the Wilkes Center for Policy and Climate to leverage the U's expertise in combatting climate change\n	Saw research grants grow to $768 million\n	Announced the Climate Change Action Plan to move the U's net-zero emissions from 2050 to 2040\n	Launched the West Valley initiative\, a hospital and outpatient health center that offers world-class and culturally appropriate care alongside an academic campus to support education and career pathways\n	Launched the Stena Center for Financial Technology\, designed to accelerate financial technology innovation and propel the fintech industry forward and cement Utah as a center of excellence\n	Announced a $100 million investment in the newly created Responsible AI Initiative \n	Oversaw the opening of the reimagined U Career Success Center to improve campus-wide job placement\, starting salaries\, and other career success metrics\n	Initiated a comprehensive strategic planning process\, Impact 2030\, as well as a 10-year university physical development plan.\n\n\nRandall began his career at the U as a professor of accounting from 1999-2009\, then led the David Eccles School of Business from 2009-2021. Under his leadership\, the school grew five-fold and expanded its experiential learning opportunities with the creation of the Goff Strategic Leadership Center\, the Kem C. Gardner Policy Institute\, the Marriner S. Eccles Institute for Economics and Quantitative Analysis\, and the Sorenson Impact Center. His professional experience includes consulting positions with major companies such as General Motors\, Dupont\, and O.C. Tanner. He graduated from the University of Utah in 1990 with honors in accounting and earned an MBA and a doctorate in operations and information management from the Wharton School of Business at the University of Pennsylvania. \n\nRandall and his wife\, Janet\, have four children\, one daughter-in-law\, and one son-in-law. He loves spending family time playing games\, relaxing in the backyard\, mountain biking\, road biking\, golfing\, and all things sports-related.
X-ALT-DESC;FMTTYPE=text/html:<div style="text-align: center\;"><span style="font-size:24px\;">University of Utah President Taylor R. Randall will address the current state of higher education and the University of Utah&#39\;s innovative solutions to modern challenges. The discussion will highlight the U&#39\;s medical school expansion in St. George and similar initiatives designed to create meaningful statewide impact.</span><br />\n<br />\n&nbsp\;</div>\n\n<div><span style="font-size:14px\;"><span style="font-family:arial\;">President Randall&#39\;s Bio:</span></span>\n\n<p font-size:="" sans="" source="" style="color: rgb(71\, 73\, 74)\; font-family: "><span style="font-size:14px\;"><span style="font-family:arial\;">Taylor R. Randall was selected by the Utah Board of Higher Education as the 17th president of the University of Utah in August 2021. An award-winning educator\, innovative leader\, and champion of higher education\, he comes to the position with more than two decades of experience at the U\, serving as both dean of and an accounting professor in the David Eccles School of Business. He is the first alumnus since 1973 to serve as president.</span></span></p>\n\n<p font-size:="" sans="" source="" style="color: rgb(71\, 73\, 74)\; font-family: "><span style="font-size:14px\;"><span style="font-family:arial\;">Randall began his tenure by declaring a bold vision to make the U a top 10 public university with unsurpassed societal impact. His strategy outlines three objectives: to&nbsp\;<a href="https://president.utah.edu/vision-and-initiatives/#inspire" style="background: rgba(0\, 0\, 0\, 0)\; color: rgb(190\, 0\, 0)\;"><strong>inspire</strong></a>&nbsp\;a new generation of students by revolutionizing the student experience\,&nbsp\;<a href="https://president.utah.edu/vision-and-initiatives/#innovate" style="background: rgba(0\, 0\, 0\, 0)\; color: rgb(190\, 0\, 0)\;"><strong>innovate</strong></a>&nbsp\;and generate discoveries that change the world\, and&nbsp\;<a href="https://president.utah.edu/vision-and-initiatives/#impact" style="background: rgba(0\, 0\, 0\, 0)\; color: rgb(190\, 0\, 0)\;"><strong>serve</strong></a>&nbsp\;our state to impact the lives of all 3.5 million Utahns. The vision includes goals to increase enrollment to 40\,000 students and secure $1 billion in research funding annually.</span></span></p>\n\n<p font-size:="" sans="" source="" style="color: rgb(71\, 73\, 74)\; font-family: "><span style="font-size:14px\;"><span style="font-family:arial\;">Since his inauguration in March of 2022\, Randall has achieved significant milestones on strategic initiatives:</span></span></p>\n\n<ul font-size:="" sans="" source="" style="box-sizing: border-box\; margin: 0px 0px 30px 15px\; padding-right: 0px\; padding-left: 15px\; line-height: 1.5\; color: rgb(71\, 73\, 74)\; font-family: ">\n	<li style="position: relative\; margin-bottom: 10px\;"><span style="font-size:14px\;"><span style="font-family:arial\;">Embarked on a&nbsp\;<a href="https://president.utah.edu/utahacrossutah/" style="background: rgba(0\, 0\, 0\, 0)\; color: rgb(190\, 0\, 0)\; text-decoration-line: none\;">statewide tour</a>&nbsp\;and signed a new compact with the state of Utah to rededicate the U&rsquo\;s role as the state&rsquo\;s flagship university\, pledging&nbsp\;<a href="https://president.utah.edu/six-commitments/" style="background: rgba(0\, 0\, 0\, 0)\; color: rgb(190\, 0\, 0)\; text-decoration-line: none\;">six commitments</a>&nbsp\;to lead\, partner\, educate\, research\, provide health care\, and serve</span></span></li>\n	<li style="position: relative\; margin-bottom: 10px\;"><span style="font-size:14px\;"><span style="font-family:arial\;"><span class="TrackChangeTextInsertion TrackedChange SCXW48607403 BCX9"><span class="TextRun SCXW48607403 BCX9" data-contrast="none" lang="EN-US" xml:lang="EN-US">Jointly initiated</span></span><span class="TrackChangeTextInsertion TrackedChange SCXW48607403 BCX9"><span class="TextRun SCXW48607403 BCX9" data-contrast="none" lang="EN-US" xml:lang="EN-US">&nbsp\;the&nbsp\;</span></span><a class="Hyperlink SCXW48607403 BCX9" href="https://gardner.utah.edu/great-salt-lake-strike-team/" rel="noreferrer noopener" style="background: rgba(0\, 0\, 0\, 0)\; color: rgb(190\, 0\, 0)\; text-decoration-line: none\;" target="_blank"><span class="TrackChangeTextInsertion TrackedChange SCXW48607403 BCX9"><span class="FieldRange SCXW48607403 BCX9"><span class="TextRun Underlined SCXW48607403 BCX9" data-contrast="none" lang="EN-US" xml:lang="EN-US">Great Salt Lake Strike Team</span></span></span></a><span class="TrackChangeTextInsertion TrackedChange SCXW48607403 BCX9"><span class="TextRun SCXW48607403 BCX9" data-contrast="none" lang="EN-US" xml:lang="EN-US">&nbsp\;with Utah State University to&nbsp\;</span></span><span class="TrackChangeTextInsertion TrackedChange SCXW48607403 BCX9"><span class="TextRun SCXW48607403 BCX9" data-contrast="none" lang="EN-US" xml:lang="EN-US">apply university research&nbsp\;</span></span><span class="TrackChangeTextInsertion TrackedChange SCXW48607403 BCX9"><span class="TextRun SCXW48607403 BCX9" data-contrast="none" lang="EN-US" xml:lang="EN-US"><span class="NormalTextRun SCXW48607403 BCX9">expertise</span><span class="NormalTextRun SCXW48607403 BCX9">&nbsp\;to lake preservation&nbsp\;</span></span></span><span class="TrackChangeTextInsertion TrackedChange SCXW48607403 BCX9"><span class="TextRun SCXW48607403 BCX9" data-contrast="none" lang="EN-US" xml:lang="EN-US">efforts</span></span><span class="EOP TrackedChange SCXW48607403 BCX9" data-ccp-props="{">&nbsp\;</span></span></span></li>\n	<li style="position: relative\; margin-bottom: 10px\;"><span style="font-size:14px\;"><span style="font-family:arial\;"><span class="TrackChangeTextInsertion TrackedChange SCXW134172457 BCX9"><span class="TextRun SCXW134172457 BCX9" data-contrast="none" lang="EN-US" xml:lang="EN-US">Implemented&nbsp\;</span></span><a class="Hyperlink SCXW134172457 BCX9" href="https://magazine.utah.edu/issues/summer-2023/college-town-magic/" rel="noreferrer noopener" style="background: rgba(0\, 0\, 0\, 0)\; color: rgb(190\, 0\, 0)\; text-decoration-line: none\;" target="_blank"><span class="TrackChangeTextInsertion TrackedChange SCXW134172457 BCX9"><span class="FieldRange SCXW134172457 BCX9"><span class="TextRun Underlined SCXW134172457 BCX9" data-contrast="none" lang="EN-US" xml:lang="EN-US">campus transformation plans to add 5\,000 student housing beds</span></span></span></a><span class="TrackChangeTextInsertion TrackedChange SCXW134172457 BCX9"><span class="TextRun SCXW134172457 BCX9" data-contrast="none" lang="EN-US" xml:lang="EN-US">&nbsp\;and&nbsp\;create a 24/7 college experience</span></span></span></span></li>\n	<li style="position: relative\; margin-bottom: 10px\;"><span style="font-size:14px\;"><span style="font-family:arial\;"><a href="https://attheu.utah.edu/students/new-chief-experience-officer-named/" style="background: rgba(0\, 0\, 0\, 0)\; color: rgb(190\, 0\, 0)\; text-decoration-line: none\;">Hired a Chief Experience Officer</a>&nbsp\;to help revolutionize the student experience</span></span></li>\n	<li style="position: relative\; margin-bottom: 10px\;"><span style="font-size:14px\;"><span style="font-family:arial\;">Launched the&nbsp\;<a href="https://attheu.utah.edu/facultystaff/backed-by-20-million-gift-u-launches-the-wilkes-center-for-climate-science-and-policy/" style="background: rgba(0\, 0\, 0\, 0)\; color: rgb(190\, 0\, 0)\; text-decoration-line: none\;">Wilkes Center for Policy and Climate</a>&nbsp\;to leverage the U&rsquo\;s expertise in combatting climate change</span></span></li>\n	<li style="position: relative\; margin-bottom: 10px\;"><span style="font-size:14px\;"><span style="font-family:arial\;">Saw&nbsp\;<a href="https://attheu.utah.edu/facultystaff/u-surpasses-750-million-in-research-funding/" style="background: rgba(0\, 0\, 0\, 0)\; color: rgb(190\, 0\, 0)\; text-decoration-line: none\;">research grants grow to $768 million</a></span></span></li>\n	<li style="position: relative\; margin-bottom: 10px\;"><span style="font-size:14px\;"><span style="font-family:arial\;">Announced the&nbsp\;<a href="https://attheu.utah.edu/facultystaff/a-new-climate-change-action-plan-to-meet-local-and-global-challenges/" style="background: rgba(0\, 0\, 0\, 0)\; color: rgb(190\, 0\, 0)\; text-decoration-line: none\;">Climate Change Action Plan</a>&nbsp\;to move the U&rsquo\;s net-zero emissions from 2050 to 2040</span></span></li>\n	<li style="position: relative\; margin-bottom: 10px\;"><span style="font-size:14px\;"><span style="font-family:arial\;">Launched the&nbsp\;<a href="https://attheu.utah.edu/facultystaff/west-valley-vision/" style="background: rgba(0\, 0\, 0\, 0)\; color: rgb(190\, 0\, 0)\; text-decoration-line: none\;">West Valley initiative</a>\, a hospital and outpatient health center that offers world-class and culturally appropriate care alongside an academic campus to support education and career pathways</span></span></li>\n	<li style="position: relative\; margin-bottom: 10px\;"><span style="font-size:14px\;"><span style="font-family:arial\;">Launched the&nbsp\;<a href="https://attheu.utah.edu/facultystaff/new-fintech-center-launched-at-university-of-utah/" style="background: rgba(0\, 0\, 0\, 0)\; color: rgb(190\, 0\, 0)\; text-decoration-line: none\;">Stena Center for Financial Technology</a>\, designed to accelerate financial technology innovation and propel the fintech industry forward and cement Utah as a center of excellence</span></span></li>\n	<li style="position: relative\; margin-bottom: 10px\;"><span style="font-size:14px\;"><span style="font-family:arial\;">Announced a $100 million investment in the newly created&nbsp\;<a href="https://attheu.utah.edu/facultystaff/responsible-ai-initiative-seeks-to-solve-societal-problems/" style="background: rgba(0\, 0\, 0\, 0)\; color: rgb(190\, 0\, 0)\; text-decoration-line: none\;">Responsible AI Initiative&nbsp\;</a></span></span></li>\n	<li style="position: relative\; margin-bottom: 10px\;"><span style="font-size:14px\;"><span style="font-family:arial\;">Oversaw the opening of the reimagined&nbsp\;<a href="https://careers.utah.edu/" style="background: rgba(0\, 0\, 0\, 0)\; color: rgb(190\, 0\, 0)\; text-decoration-line: none\;">U Career Success Center</a>&nbsp\;to improve campus-wide job placement\, starting salaries\, and other career success metrics</span></span></li>\n	<li style="position: relative\; margin-bottom: 10px\;"><span style="font-size:14px\;"><span style="font-family:arial\;">Initiated a comprehensive strategic planning process\,<a href="https://strategy.utah.edu/" style="background: rgba(0\, 0\, 0\, 0)\; color: rgb(190\, 0\, 0)\; text-decoration-line: none\;">&nbsp\;Impact 2030</a>\, as well as a 10-year&nbsp\;<a href="https://updp.utah.edu/" style="background: rgba(0\, 0\, 0\, 0)\; color: rgb(190\, 0\, 0)\; text-decoration-line: none\;">university physical development plan</a>.</span></span></li>\n</ul>\n\n<p font-size:="" sans="" source="" style="color: rgb(71\, 73\, 74)\; font-family: "><span style="font-size:14px\;"><span style="font-family:arial\;"><span data-contrast="none">Randall began his career at the U as a professor of accounting from 1999-2009\, then led the David Eccles School of Business from 2009-2021. Under his leadership\, the school grew five-fold and expanded its experiential learning opportunities with the creation of the&#8239\;</span><a href="https://eccles.utah.edu/goff/" style="background: rgba(0\, 0\, 0\, 0)\; color: rgb(190\, 0\, 0)\;"><span data-contrast="none">Goff Strategic Leadership Center</span></a><span data-contrast="none">\, the&#8239\;</span><a href="https://gardner.utah.edu/" style="background: rgba(0\, 0\, 0\, 0)\; color: rgb(190\, 0\, 0)\;"><span data-contrast="none">Kem C. Gardner Policy Institute</span></a><span data-contrast="none">\, the&#8239\;</span><a href="https://marriner.eccles.utah.edu/" style="background: rgba(0\, 0\, 0\, 0)\; color: rgb(190\, 0\, 0)\;"><span data-contrast="none">Marriner S. Eccles Institute for Economics and Quantitative Analysis</span></a><span data-contrast="none">\, and the&#8239\;</span><a href="https://www.sorensonimpact.com/" style="background: rgba(0\, 0\, 0\, 0)\; color: rgb(190\, 0\, 0)\;"><span data-contrast="none">Sorenson Impact Center</span></a><span data-contrast="none">. His professional experience includes consulting positions with major companies such as General Motors\, Dupont\, and O.C. Tanner. He&nbsp\;</span><span data-contrast="none">graduated from the University of Utah in 1990 with honors in accounting and earned an MBA and a doctorate in operations and information management from the Wharton School of Business at the University of Pennsylvania.</span><span data-ccp-props="{">&nbsp\;</span></span></span></p>\n\n<p font-size:="" sans="" source="" style="color: rgb(71\, 73\, 74)\; font-family: "><span style="font-size:14px\;"><span style="font-family:arial\;"><span data-contrast="none">Randall and his wife\, Janet\, have four children\, one daughter-in-law\, and one son-in-law. He loves spending family time playing games\, relaxing in the backyard\, mountain biking\, road biking\, golfing\, and all things sports-related.</span><span data-ccp-props="{">&nbsp\;</span></span></span></p>\n</div>\n<scribe-shadow id="crxjs-ext" style="position: fixed\; width: 0px\; height: 0px\; top: 0px\; left: 0px\; z-index: 2147483647\; overflow: visible\; visibility: visible\;"></scribe-shadow>
LOCATION:Best Western Abbey Inn
UID:e.1117.17888
SEQUENCE:3
DTSTAMP:20260421T130202Z
URL:https://business.stgeorgechamber.com/events/details/chamber-power-lunch-with-president-randall-university-of-utah-17888
END:VEVENT

END:VCALENDAR
