BEGIN:VCALENDAR
VERSION:2.0
PRODID:-//ChamberMaster//Event Calendar 2.0//EN
METHOD:PUBLISH
X-PUBLISHED-TTL:P3D
REFRESH-INTERVAL:P3D
CALSCALE:GREGORIAN
BEGIN:VEVENT
DTSTART:20260520T173000Z
DTEND:20260520T190000Z
X-MICROSOFT-CDO-ALLDAYEVENT:FALSE
SUMMARY:Chamber Power Lunch
DESCRIPTION:Join us for our signature Power Lunch\, the chamber's premier monthly gathering designed for education\, connection\, and business growth.\n\nHeld once a month\, this event offers a valuable opportunity to step away from your daily routine\, enjoy a delicious catered lunch\, and invest in your professional development and network.\n\nWhat to Expect:\n\n\n	\n	Insightful Education: Every Power Lunch features a dynamic guest speaker or presentation focused on topics vital to our local business community from economic forecasts and marketing strategies to leadership development and legislative updates.\n	\n	\n	Strategic Networking: Connect with fellow chamber members\, local business owners\, and community leaders. This is the perfect setting to build new professional relationships\, share ideas\, and explore potential collaborations.\n	\n	\n	Delicious Catered Meal: Enjoy a high-quality\, freshly prepared lunch in a comfortable and professional environment.
X-ALT-DESC;FMTTYPE=text/html:<p data-path-to-node="4"><span class="citation-1">Join us for our signature </span><b>Power Lunch</b><span class="citation-1">\, the chamber&rsquo\;s premier monthly gathering designed for </span><b>education\, connection\, and business growth</b><span class="citation-1 citation-end-1">.<source-footnote _nghost-ng-c3888013265="" ng-version="0.0.0-PLACEHOLDER"></source-footnote></span><sources-carousel-inline _nghost-ng-c2744956029="" ng-version="0.0.0-PLACEHOLDER"><source-inline-chips _ngcontent-ng-c2744956029="" _nghost-ng-c2631690858="" class="ng-star-inserted"><source-inline-chip _ngcontent-ng-c2631690858="" _nghost-ng-c652412418="" class="ng-star-inserted"></source-inline-chip></source-inline-chips></sources-carousel-inline></p>\n\n<p data-path-to-node="5">Held once a month\, this event offers a valuable opportunity to step away from your daily routine\, enjoy a delicious <b>catered lunch</b>\, and invest in your professional development and network.</p>\n\n<h3>What to Expect:</h3>\n\n<ul data-path-to-node="7">\n	<li>\n	<p data-path-to-node="7\,0\,0"><b>Insightful Education:</b> Every Power Lunch features a dynamic guest speaker or presentation focused on topics vital to our local business community&mdash\;from economic forecasts and marketing strategies to leadership development and legislative updates.</p>\n	</li>\n	<li>\n	<p data-path-to-node="7\,1\,0"><b>Strategic Networking:</b> Connect with fellow chamber members\, local business owners\, and community leaders. This is the perfect setting to build new professional relationships\, share ideas\, and explore potential collaborations.</p>\n	</li>\n	<li>\n	<p data-path-to-node="7\,2\,0"><b>Delicious Catered Meal:</b> Enjoy a high-quality\, freshly prepared lunch in a comfortable and professional environment.</p>\n	</li>\n</ul>\n
LOCATION:St. George Area Chamber of Commerce 136 N 100 E St. George\, UT 84770
UID:e.1117.18464
SEQUENCE:3
DTSTAMP:20260420T210637Z
URL:https://business.stgeorgechamber.com/events/details/chamber-power-lunch-18464
END:VEVENT

END:VCALENDAR
