BEGIN:VCALENDAR
VERSION:2.0
PRODID:-//ChamberMaster//Event Calendar 2.0//EN
METHOD:PUBLISH
X-PUBLISHED-TTL:P3D
REFRESH-INTERVAL:P3D
CALSCALE:GREGORIAN
BEGIN:VEVENT
DTSTART:20130612T180000Z
DTEND:20130612T190000Z
X-MICROSOFT-CDO-ALLDAYEVENT:FALSE
SUMMARY:Chamber Luncheon "Marketing Inside-Out"
DESCRIPTION:Within your business niche\, competitive advantage doesn't just show up on your doorstep knocking. Rather\, it requires a cohesive\, strategic\, marketing plan which is creative in its design and successful in its implementation. \n\nAt ShermanSpeaks LLC\, we believe that Strategic Marketing must first be fostered inside of your company utilizing the strength of leaders who have core competencies both in their leadership role and in the fundamentals of business culture.\n\n \n\nThriving Employees\n\nTypically\, we think of marketing as it relates to engaging the customer\, fulfilling customer wants and needs\, or compelling long term client relationships. All are important. As part of your new strategy\, try flipping that thinking toward your employees.\n\nWhen building a marketing strategy begin with this question: Does your marketing plan contain strategies to create a strong company culture? \n\nConsider how the following might impact the successful marketing of your business:\n\n1.   Employees that are well educated and likely to be promoted within.\n\n2.  A culture where creativity is rewarded and fostered and where mistakes are seen as a positive part of development. \n\n3.  Ethical business practices in all departments.\n\n4.  True Leadership\, On-Boarding with Vision\, and Sustainable Practices.\n\n \n\nBIO\n\nDefining 2.0  Jeff Sherman consults companies and individuals seeking to grow their success "Inside Out". Beyond mediocrity dreams are found.\n\nMr. Sherman is a National Speakers Association Certified Speaker having facilitated hundreds of trainings\, keynote speeches\, and seminars.\n\nSherman received his Master of Education degree at Weber State University and continues his commitment to education as Director of Training for the School of Life Foundation\, a nonprofit 501 C-3 organization\, where he has served for 7 years providing motivational training and materials to youth and companies throughout the U.S. and 13 countries abroad. \n\nSherman serves as Advisory Board Chair for Leadership Academy providing insight to high school students prone to leadership. In addition\, he serves on the Advisory Board of Dixie Tech in association with Dixie State University.\n\nSherman's greatest joys are found in his family. He attributes his success to their consistent support and encouragement.
X-ALT-DESC;FMTTYPE=text/html:<span style="font-family:arial\,sans-serif\;">Within your business niche\, competitive advantage doesn&rsquo\;t just show up on your doorstep knocking. Rather\, it requires a cohesive\, strategic\, marketing plan which is creative in its design and successful in its implementation. </span><br />\n<span style="font-family:arial\,sans-serif\;">At ShermanSpeaks LLC\, we believe that Strategic Marketing must first be fostered inside of your company utilizing the strength of leaders who have core competencies both in their leadership role and in the fundamentals of business culture.</span><br />\n&nbsp\;<br />\n<span style="font-family:arial\,sans-serif\;"><span style="font-size:13.0pt\;">Thriving Employees</span></span><br />\n<span style="font-family:arial\,sans-serif\;">Typically\, we think of marketing as it relates to engaging the customer\, fulfilling customer wants and needs\, or compelling long&shy\;term client relationships. All are important. As part of your new strategy\, try flipping that thinking toward your employees.</span><br />\n<span style="font-family:arial\,sans-serif\;">When building a marketing strategy begin with this question: Does your marketing plan contain strategies to create a strong company culture? </span><br />\n<span style="font-family:arial\,sans-serif\;">Consider how the following might impact the successful marketing of your business:</span><br />\n<span style="font-family:times\,serif\;">1.&nbsp\;&nbsp\; </span><span style="font-family:arial\,sans-serif\;">Employees that are well educated and likely to be promoted within.</span><br />\n<span style="font-family:arial\,sans-serif\;">2.&nbsp\; </span><span style="font-family:arial\,sans-serif\;">A culture where creativity is rewarded and fostered and where mistakes are seen as a positive part of development. </span><br />\n<span style="font-family:arial\,sans-serif\;">3.&nbsp\; </span><span style="font-family:arial\,sans-serif\;">Ethical business practices in all departments.</span><br />\n<span style="font-family:arial\,sans-serif\;">4.&nbsp\; </span><span style="font-family:arial\,sans-serif\;">True Leadership\, On-Boarding with Vision\, and Sustainable Practices.</span><br />\n&nbsp\;<br />\n<span style="font-family:arial\,sans-serif\;">BIO</span><br />\n<span style="font-family:arial\,sans-serif\;">Defining 2.0&trade\; Jeff Sherman consults companies and individuals seeking to grow their success &ldquo\;Inside Out&rdquo\;. Beyond mediocrity dreams are found.</span><br />\n<span style="font-family:arial\,sans-serif\;">Mr. Sherman is a National Speakers Association Certified Speaker having facilitated hundreds of trainings\, keynote speeches\, and seminars.</span><br />\n<span style="font-family:arial\,sans-serif\;">Sherman received his Master of Education degree at Weber State University and continues his commitment to education as Director of Training for the School of Life Foundation\, a nonprofit 501 C-3 organization\, where he has served for 7 years providing motivational training and materials to youth and companies throughout the U.S. and 13 countries abroad. </span><br />\n<span style="font-family:arial\,sans-serif\;">Sherman serves as Advisory Board Chair for Leadership Academy providing insight to high school students prone to leadership. In addition\, he serves on the Advisory Board of Dixie Tech in association with Dixie State University.</span><br />\n<span style="font-family:arial\,sans-serif\;">Sherman&rsquo\;s greatest joys are found in his family. He attributes his success to their consistent support and encouragement.&nbsp\;</span><br />\n
LOCATION:Best Western Abbey Inn 1129 S. Bluff Street
UID:e.1117.2966
SEQUENCE:3
DTSTAMP:20260422T041715Z
URL:https://business.stgeorgechamber.com/events/details/chamber-luncheon-marketing-inside-out-06-12-2013-2966
END:VEVENT

END:VCALENDAR
