BEGIN:VCALENDAR
VERSION:2.0
PRODID:-//ChamberMaster//Event Calendar 2.0//EN
METHOD:PUBLISH
X-PUBLISHED-TTL:P3D
REFRESH-INTERVAL:P3D
CALSCALE:GREGORIAN
BEGIN:VEVENT
DTSTART:20130717T180000Z
DTEND:20130717T190000Z
X-MICROSOFT-CDO-ALLDAYEVENT:FALSE
SUMMARY:Chamber Luncheon "How to Utilize the Department of Workforce Services"
DESCRIPTION:The Department of Workforce Services supports Governor Herbert's vision to strengthen Utah's economy by supporting the economic stability and quality of our workforce. They provide quality and streamlined services that connect a world-class workforce with employment.\n\n	\n\n	The Department of Workforce Services is committed to helping Utah businesses because we understand the challenges you face as an employer. Whether looking for employees\, improving your workplace or facing the possibility of a layoff\, they can help. DWS offers a wide range of tools and resources to assist you with anything from the hiring process to a reduction in workers. They would like to share with you the current services that DWS has to offer the communities.
X-ALT-DESC;FMTTYPE=text/html:<p>\n	<span style="font-size:14px\;"><span style="font-family:arial\;"><span style="line-height: 16px\;">The Department of Workforce Services supports&nbsp\;</span><span style="line-height: 16px\;">Governor Herbert&#39\;s vision</span><span style="line-height: 16px\;">&nbsp\;to strengthen Utah&#39\;s economy by supporting the economic stability and quality of our workforce. They provide quality and streamlined services that connect a world-class workforce with employment.</span></span></span><br />\n	<br />\n	<span style="font-family: arial\; font-size: 14px\;">The Department of Workforce Services is committed to helping Utah businesses because we understand the challenges you face as an employer. Whether looking for employees\, improving your workplace or facing the possibility of a layoff\, they can help. </span>DWS<span style="font-family: arial\; font-size: 14px\;"> offers a wide range of tools and resources to assist you with anything from the hiring process to a reduction in workers. They would like to share with you the current services that </span>DWS<span style="font-family: arial\; font-size: 14px\;"> has to offer the communities.&nbsp\;</span></p>\n
LOCATION:Best Western Abbey Inn 1129 S. Bluff Street
UID:e.1117.4190
SEQUENCE:3
DTSTAMP:20260422T023857Z
URL:https://business.stgeorgechamber.com/events/details/chamber-luncheon-how-to-utilize-the-department-of-workforce-services-07-17-2013-4190
END:VEVENT

END:VCALENDAR
