BEGIN:VCALENDAR
VERSION:2.0
PRODID:-//ChamberMaster//Event Calendar 2.0//EN
METHOD:PUBLISH
X-PUBLISHED-TTL:P3D
REFRESH-INTERVAL:P3D
CALSCALE:GREGORIAN
BEGIN:VEVENT
DTSTART:20130821T180000Z
DTEND:20130821T190000Z
X-MICROSOFT-CDO-ALLDAYEVENT:FALSE
SUMMARY:Chamber Luncheon "How the Small Business Administration Can Help Business"
DESCRIPTION:Today's luncheon will feature the Small Business Administration (SBA) and how they can help small business through Counseling and training\, guaranteed loans and doing business with the government.\n\n	\n\n	Stan Nakano is the Utah District Director for the U.S. Small Business Administration.  The Utah District participates with lenders\,  including banks\, certified development companies\, and credit unions\, each one partnering with SBA to meet the financing needs of small businesses  in Utah.  In fiscal year 2012\, the SBA guaranteed 1\,377 small business loans for over $361 million\, an all-time dollar record for Utah.  The total outstanding loan portfolio is in excess of 19\,500 loans for over $1.6 billion.\n\n	 \n\n	The Utah District provides funding support to eleven Small Business Development Centers\, five SCORE chapters\, and a Women's Business Center co-located at the Salt Lake Chamber of Commerce.  These organizations provide outstanding counseling and training for new and existing entrepreneurs.  \n\n	 \n\n	Additionally\, the Utah District plays a significant role by helping small businesses obtain contracts through the federal procurement system.  Under SBA's 8(a) program\, Utah small businesses were approved for federal contracts totaling $172 million in fiscal year 2012 and another $49 million through SBA's HUBZONE program.\n\n	 \n\n	Before becoming the District Director\, Nakano served as the Chief of Portfolio Management for the Utah District Office.  Nakano has an education background in finance and managed the SBA department for a Utah bank before joining the SBA.\n\n	 \n\n	Nakano is most proud of the great number of businesses the SBA has been able to assist including businesses owned by women and minorities as well as veteran owned businesses and international trade clients exporting goods and services around the world.\n\n	 \n\n	Nakano encourages Utah small businesses to take full advantage of the programs and services offered by the SBA in Utah.
X-ALT-DESC;FMTTYPE=text/html:<p>\n	<span style="font-size:14px\;"><span style="font-family:arial\;">Today&#39\;s luncheon will feature the Small Business Administration (SBA) and how they can&nbsp\;help small business through Counseling and training\, guaranteed loans and doing business with the government.<br />\n	<br />\n	Stan Nakano is the Utah District Director for the U.S. Small Business Administration.&nbsp\; The Utah District participates with lenders\, &nbsp\;including banks\, certified development companies\, and credit unions\, each one partnering with SBA to meet the financing needs of small businesses &nbsp\;in Utah.&nbsp\; In fiscal year 2012\, the SBA guaranteed 1\,377 small business loans for over $361 million\, an all-time dollar record for Utah.&nbsp\; The total outstanding loan portfolio is in excess of 19\,500 loans for over $1.6 billion.<br />\n	&nbsp\;<br />\n	The Utah District provides funding support to eleven Small Business Development Centers\, five SCORE chapters\, and a Women&rsquo\;s Business Center co-located at the Salt Lake Chamber of Commerce.&nbsp\; These organizations provide outstanding counseling and training for new and existing entrepreneurs. &nbsp\;<br />\n	&nbsp\;<br />\n	Additionally\, the Utah District plays a significant role by helping small businesses obtain contracts through the federal procurement system.&nbsp\; Under SBA&rsquo\;s 8(a) program\, Utah small businesses were approved for federal contracts totaling $172 million in fiscal year 2012 and another $49 million through SBA&rsquo\;s HUBZONE program.<br />\n	&nbsp\;<br />\n	Before becoming the District Director\, Nakano served as the Chief of Portfolio Management for the Utah District Office.&nbsp\; Nakano has an education background in finance and managed the SBA department for a Utah bank before joining the SBA.<br />\n	&nbsp\;<br />\n	Nakano is most proud of the great number of businesses the SBA has been able to assist including businesses owned by women and minorities as well as veteran owned businesses and international trade clients exporting goods and services around the world.<br />\n	&nbsp\;<br />\n	Nakano encourages Utah small businesses to take full advantage of the programs and services offered by the SBA in Utah.</span></span></p>\n
LOCATION:Dixie State University Gardner Center Ballroom 225 S. 700 E. St. George
UID:e.1117.4239
SEQUENCE:3
DTSTAMP:20260421T233207Z
URL:https://business.stgeorgechamber.com/events/details/chamber-luncheon-how-the-small-business-administration-can-help-business-08-21-2013-4239
END:VEVENT

END:VCALENDAR
