BEGIN:VCALENDAR
VERSION:2.0
PRODID:-//ChamberMaster//Event Calendar 2.0//EN
METHOD:PUBLISH
X-PUBLISHED-TTL:P3D
REFRESH-INTERVAL:P3D
CALSCALE:GREGORIAN
BEGIN:VEVENT
DTSTART:20130515T180000Z
DTEND:20130515T190000Z
X-MICROSOFT-CDO-ALLDAYEVENT:FALSE
SUMMARY:Chamber Luncheon "How the Mortgage Industry is Faring"
DESCRIPTION:Our Luncheon presentation today is provided by Ryan Bolton with WJ Bradley Mortgage.  Ryan is the former president of the Southern Utah Chapter of the Utah Association of Mortgage Brokers and is the Branch Manager for WJ Bradley.  Ryan will be updating us on the mortgage market including foreclosures\, historic interest rates\, and lending reforms.
X-ALT-DESC;FMTTYPE=text/html:<span style="font-family:times new roman\,serif\;"><span style="font-size:19.0pt\;">Our Luncheon presentation today is provided by Ryan Bolton with WJ Bradley Mortgage.&nbsp\; Ryan is the former president of the Southern Utah Chapter of the Utah Association of Mortgage Brokers and is the Branch Manager for WJ Bradley.&nbsp\; Ryan will be updating us on the mortgage market including foreclosures\, historic interest rates\, and lending reforms.</span></span>
LOCATION:Best Western Abbey Inn 1129 S. Bluff Street St. George\, UT
UID:e.1117.2945
SEQUENCE:3
DTSTAMP:20260422T042030Z
URL:https://business.stgeorgechamber.com/events/details/chamber-luncheon-how-the-mortgage-industry-is-faring-05-15-2013-2945
END:VEVENT

END:VCALENDAR
