BEGIN:VCALENDAR
VERSION:2.0
PRODID:-//ChamberMaster//Event Calendar 2.0//EN
METHOD:PUBLISH
X-PUBLISHED-TTL:P3D
REFRESH-INTERVAL:P3D
CALSCALE:GREGORIAN
BEGIN:VEVENT
DTSTART:20130417T180000Z
DTEND:20130417T190000Z
X-MICROSOFT-CDO-ALLDAYEVENT:FALSE
SUMMARY:Chamber Luncheon "How Obamacare Affects Your Business"
DESCRIPTION:At today's featured luncheon\, the following will be discussed:\n\n	\n		How does the law impact small businesses that do not offer insurance?\n	\n		How does the law impact small businesses that do offer insurance?\n	\n		How does the law impact individuals and individual insurance coverage?\n	\n		What are Health Insurance Exchanges? What are the differences?\n	\n		What are the new taxes included in the law\n\nBen Smith graduated from SUU with a Bachelors of Arts in Accounting in 2007.  Prior to that time\, he served in the Army Finance Corp. for 8 years and was the CFO of Harvest Homes LLC for 2 years.  After graduation\, he worked for 5 years for HEB Business Solutions in Vernal Utah\, starting as a staff accountant and leaving as a senior.  In 2011\, Ben graduated from Golden Gate University with a Masters of Taxation.  He began working with David Hall & Associates in January 2012 as the Tax Manager.  His tax experience has been focused on small businesses and individuals with emphasis in the extraction\, construction\, medical and farming industries.
X-ALT-DESC;FMTTYPE=text/html:<div>\n	At today&#39\;s featured luncheon\, the following will be discussed:</div>\n<ul>\n	<li>\n		How does the law impact small businesses that do not offer insurance?</li>\n	<li>\n		How does the law impact small businesses that do offer insurance?</li>\n	<li>\n		How does the law impact individuals and individual insurance coverage?</li>\n	<li>\n		What are Health Insurance Exchanges? What are the differences?</li>\n	<li>\n		What are the new taxes included in the law</li>\n</ul>\n<span style="font-size: 9.5pt\; font-family: arial\, sans-serif\;">Ben Smith graduated from </span>SUU<span style="font-size: 9.5pt\; font-family: arial\, sans-serif\;"> with a Bachelors of Arts in Accounting in 2007. &nbsp\;Prior to that time\, he served in the Army Finance Corp. for 8 years and was the CFO of Harvest Homes LLC for 2 years. &nbsp\;After graduation\, he worked for 5 years for </span>HEB<span style="font-size: 9.5pt\; font-family: arial\, sans-serif\;"> Business Solutions in Vernal Utah\, starting as a staff accountant and leaving as a senior. &nbsp\;In 2011\, Ben graduated from Golden Gate University with a Masters of Taxation. &nbsp\;He began working with David Hall &amp\; Associates in January 2012 as the Tax Manager. &nbsp\;His tax experience has been focused on small businesses and individuals with emphasis in the extraction\, construction\, medical and farming industries.</span>
LOCATION:1129 S. Bluff Street St. George\, UT
UID:e.1117.2915
SEQUENCE:3
DTSTAMP:20260422T073620Z
URL:https://business.stgeorgechamber.com/events/details/chamber-luncheon-how-obamacare-affects-your-business-04-17-2013-2915
END:VEVENT

END:VCALENDAR
